BEGIN:VCALENDAR
VERSION:2.0
PRODID:-//Les Turner ALS Foundation - ECPv6.15.20//NONSGML v1.0//EN
CALSCALE:GREGORIAN
METHOD:PUBLISH
X-ORIGINAL-URL:https://es.lesturnerals.org
X-WR-CALDESC:Eventos para Les Turner ALS Foundation
REFRESH-INTERVAL;VALUE=DURATION:PT1H
X-Robots-Tag:noindex
X-PUBLISHED-TTL:PT1H
BEGIN:VTIMEZONE
TZID:America/Chicago
BEGIN:DAYLIGHT
TZOFFSETFROM:-0600
TZOFFSETTO:-0500
TZNAME:CDT
DTSTART:20200308T080000
END:DAYLIGHT
BEGIN:STANDARD
TZOFFSETFROM:-0500
TZOFFSETTO:-0600
TZNAME:CST
DTSTART:20201101T070000
END:STANDARD
BEGIN:DAYLIGHT
TZOFFSETFROM:-0600
TZOFFSETTO:-0500
TZNAME:CDT
DTSTART:20210314T080000
END:DAYLIGHT
BEGIN:STANDARD
TZOFFSETFROM:-0500
TZOFFSETTO:-0600
TZNAME:CST
DTSTART:20211107T070000
END:STANDARD
BEGIN:DAYLIGHT
TZOFFSETFROM:-0600
TZOFFSETTO:-0500
TZNAME:CDT
DTSTART:20220313T080000
END:DAYLIGHT
BEGIN:STANDARD
TZOFFSETFROM:-0500
TZOFFSETTO:-0600
TZNAME:CST
DTSTART:20221106T070000
END:STANDARD
BEGIN:DAYLIGHT
TZOFFSETFROM:-0600
TZOFFSETTO:-0500
TZNAME:CDT
DTSTART:20230312T080000
END:DAYLIGHT
BEGIN:STANDARD
TZOFFSETFROM:-0500
TZOFFSETTO:-0600
TZNAME:CST
DTSTART:20231105T070000
END:STANDARD
BEGIN:DAYLIGHT
TZOFFSETFROM:-0600
TZOFFSETTO:-0500
TZNAME:CDT
DTSTART:20240310T080000
END:DAYLIGHT
BEGIN:STANDARD
TZOFFSETFROM:-0500
TZOFFSETTO:-0600
TZNAME:CST
DTSTART:20241103T070000
END:STANDARD
END:VTIMEZONE
BEGIN:VTIMEZONE
TZID:UTC
BEGIN:STANDARD
TZOFFSETFROM:+0000
TZOFFSETTO:+0000
TZNAME:UTC
DTSTART:20220101T000000
END:STANDARD
END:VTIMEZONE
BEGIN:VEVENT
DTSTART;TZID=America/Chicago:20230614T120000
DTEND;TZID=America/Chicago:20230614T130000
DTSTAMP:20260421T124052
CREATED:20230503T210140Z
LAST-MODIFIED:20230504T204028Z
UID:17480-1686744000-1686747600@es.lesturnerals.org
SUMMARY:Newly Diagnosed ALS Support Series
DESCRIPTION:An ALS diagnosis is difficult to process. People often feel shocked and isolated by the news\, whether the diagnosis was for themselves or a family member. It’s hard to move forward or figure out what comes next.   \nThis summer\, the Les Turner ALS Foundation is launching the ALS Newly Diagnosed Support Series. Set in a relaxed and supportive virtual environment\, this support series will allow you to connect with others who have received an ALS diagnosis within the last nine months.  \nThe series will be facilitated by members of the Foundation’s Support Services team. Each session will address a topic and provide resources and education to consider. There will also be an opportunity to connect with others and ask questions.   \nClick here to register.
URL:https://es.lesturnerals.org/event/newly-diagnosed-als-support-series/
END:VEVENT
BEGIN:VEVENT
DTSTART;TZID=UTC:20230114T103000
DTEND;TZID=UTC:20230114T120000
DTSTAMP:20260421T124052
CREATED:20171215T212728Z
LAST-MODIFIED:20240110T191029Z
UID:4481-1673692200-1673697600@es.lesturnerals.org
SUMMARY:Navigating ALS Together Support Group
DESCRIPTION:Meets the Second Saturday of each month from 10:30am – 12:00 pm \nFacilitator(s): Karen Raley Steffens\, RN\, CHPN\, CCM \nRSVP: Please email us at supportgroup@es.lesturnerals.org to RSVP \n*Meetings will be held over Zoom and a Zoom invitation will be sent via email once you register for the group.*
URL:https://es.lesturnerals.org/event/navigating-als-together/
END:VEVENT
BEGIN:VEVENT
DTSTART;TZID=America/Chicago:20210819T150000
DTEND;TZID=America/Chicago:20210819T160000
DTSTAMP:20260421T124052
CREATED:20210817T021756Z
LAST-MODIFIED:20230504T200037Z
UID:11181-1629385200-1629388800@es.lesturnerals.org
SUMMARY:Caregivers-Only Support Group
DESCRIPTION:The Caregivers Only group offers a time to talk about all the issues caregivers face in a non-judgmental\, accepting atmosphere without their loved one\, who is living with ALS\, being present. Caregivers share a common experience; life has become so tumultuous that they often feel exhausted and overwhelmed\, hungry for emotional comfort. Together\, with the guidance and encouragement of a devoted facilitator\, caregivers can find the strength to persevere. And\, by feeling heard and understood\, caregivers become more equipped to face another day with new coping strategies. \nTime: Meets the Third Thursday of each month from 3pm to 4pm \nFacilitator: Anne Lidsky\, PhD \nRSVP: Please RSVP here. \n*Meetings will be held over Zoom and a Zoom invitation will be sent via email once you register for the group.*
URL:https://es.lesturnerals.org/event/caregivers-only-support-group-thursday/
END:VEVENT
BEGIN:VEVENT
DTSTART;TZID=America/Chicago:20230817T190000
DTEND;TZID=America/Chicago:20230817T200000
DTSTAMP:20260421T124052
CREATED:20230725T180154Z
LAST-MODIFIED:20230725T180154Z
UID:18256-1692298800-1692302400@es.lesturnerals.org
SUMMARY:August ALS Learning Series: Supporting those Caring\, Dying and Grieving
DESCRIPTION:Join us Thursday Aug. 17 at 7:00pm CST for a webinar on ensuring accessible palliative care for people living with ALS/MND.\n\nIn this Learning Series webinar\, Professor Samar Aoun will share key findings and advice on enabling social networks to support people living with ALS/MND\, making palliative care more widely accessible. A particular focus will be on bereavement support and family caregiver support.\n\nProfessor Aoun is renowned for her expertise in public health palliative care and compassionate communities research\, currently serving as Chair of MND Australia\, MND Association of Western Australia\, and working as the Perron Institute Research Chair in Palliative Care at The University of Western Australia.\n\nDon’t miss this opportunity to gain valuable insights. Register now for the webinar and join us in advancing support and care for the ALS community.
URL:https://es.lesturnerals.org/event/august-als-learning-series-supporting-those-caring-dying-and-grieving/
END:VEVENT
BEGIN:VEVENT
DTSTART;TZID=America/Chicago:20230121T100000
DTEND;TZID=America/Chicago:20230121T110000
DTSTAMP:20260421T124052
CREATED:20230127T164918Z
LAST-MODIFIED:20230127T164918Z
UID:16260-1674295200-1674298800@es.lesturnerals.org
SUMMARY:Caregiver Only Support Group
DESCRIPTION:The Caregivers Only group offers a time to talk about all the issues caregivers face in a non-judgmental\, accepting atmosphere without their loved one\, who is living with ALS\, being present. Caregivers share a common experience; life has become so tumultuous that they often feel exhausted and overwhelmed\, hungry for emotional comfort. Together\, with the guidance and encouragement of a devoted facilitator\, caregivers can find the strength to persevere. And\, by feeling heard and understood\, caregivers become more equipped to face another day with new coping strategies. \nTime: Meets the Third Saturday of each month from 10 am to 11 am \nFacilitator: Anne Lidsky\, PhD \nRSVP: Please RSVP here. \n*Meetings will be held over Zoom and a Zoom invitation will be sent via email once you register for the group.*
URL:https://es.lesturnerals.org/event/caregiver-only-support-group/
END:VEVENT
BEGIN:VEVENT
DTSTART;TZID=America/Chicago:20230913T120000
DTEND;TZID=America/Chicago:20230913T130000
DTSTAMP:20260421T124052
CREATED:20230822T184731Z
LAST-MODIFIED:20230822T184732Z
UID:18558-1694606400-1694610000@es.lesturnerals.org
SUMMARY:Newly Diagnosed ALS Support Series
DESCRIPTION:An ALS diagnosis is difficult to process. People often feel shocked and isolated by the news\, whether the diagnosis was for themselves or a family member. It’s hard to move forward or figure out what comes next.   \nThis summer\, the Les Turner ALS Foundation is launching the ALS Newly Diagnosed Support Series. Set in a relaxed and supportive virtual environment\, this support series will allow you to connect with others who have received an ALS diagnosis within the last nine months.  \nThe series will be facilitated by members of the Foundation’s Support Services team. Each session will address a topic and provide resources and education to consider. There will also be an opportunity to connect with others and ask questions.   \nClick here to register.
URL:https://es.lesturnerals.org/event/newly-diagnosed-als-support-series-2/
END:VEVENT
BEGIN:VEVENT
DTSTART;TZID=UTC:20230822T130000
DTEND;TZID=UTC:20230822T143000
DTSTAMP:20260421T124052
CREATED:20200602T194350Z
LAST-MODIFIED:20230802T133422Z
UID:16233-1692709200-1692714600@es.lesturnerals.org
SUMMARY:Chicagoland Support Group
DESCRIPTION:Meets the Third Tuesday of each month from 1 – 2:30pm \nFacilitator: Anne Lidsky\, PhD \nRSVP: Please email us at supportgroup@es.lesturnerals.org to RSVP \n*Meetings will be held over Zoom and a Zoom invitation will be sent via email once you register for the group.*
URL:https://es.lesturnerals.org/event/virtual-support-group-2023-08-15/
END:VEVENT
BEGIN:VEVENT
DTSTART;TZID=America/Chicago:20230614T120000
DTEND;TZID=America/Chicago:20230614T130000
DTSTAMP:20260421T124052
CREATED:20230503T210140Z
LAST-MODIFIED:20230504T204028Z
UID:17480-1686744000-1686747600@es.lesturnerals.org
SUMMARY:Newly Diagnosed ALS Support Series
DESCRIPTION:An ALS diagnosis is difficult to process. People often feel shocked and isolated by the news\, whether the diagnosis was for themselves or a family member. It’s hard to move forward or figure out what comes next.   \nThis summer\, the Les Turner ALS Foundation is launching the ALS Newly Diagnosed Support Series. Set in a relaxed and supportive virtual environment\, this support series will allow you to connect with others who have received an ALS diagnosis within the last nine months.  \nThe series will be facilitated by members of the Foundation’s Support Services team. Each session will address a topic and provide resources and education to consider. There will also be an opportunity to connect with others and ask questions.   \nClick here to register.
URL:https://es.lesturnerals.org/event/newly-diagnosed-als-support-series/
END:VEVENT
BEGIN:VEVENT
DTSTART;TZID=UTC:20230128T103000
DTEND;TZID=UTC:20230128T120000
DTSTAMP:20260421T124052
CREATED:20180928T214752Z
LAST-MODIFIED:20230622T182359Z
UID:5999-1674901800-1674907200@es.lesturnerals.org
SUMMARY:Wheaton Support Group
DESCRIPTION:Meets the Fourth Saturday of each month from 10:30am-12:00pm \nFacilitator(s): Rochelle Walwer\, LCSW \nRSVP: Click here to register \n*Meetings will be held over Zoom and a Zoom invitation will be sent via email once you register for the group.*
URL:https://es.lesturnerals.org/event/wheaton-support-group-5/
END:VEVENT
BEGIN:VEVENT
DTSTART;TZID=America/Chicago:20230123T180000
DTEND;TZID=America/Chicago:20230123T193000
DTSTAMP:20260421T124052
CREATED:20220302T215618Z
LAST-MODIFIED:20230504T200204Z
UID:12588-1674496800-1674502200@es.lesturnerals.org
SUMMARY:Living After Loss (Bereavement Group)
DESCRIPTION:An open\, supportive monthly bereavement group for anyone (family\, friend\, etc.) who has lost a loved one to ALS within the past year. This group will provide a place to connect with others who have experienced the loss of a loved one to ALS; stories will be told\, feelings will be explored\, and information will be shared about how to remain connected to the memory of a loved one. \nDate: Fourth Monday \nTime: 6pm – 7:30pm \nFacilitator(s): Easton Stevenson\, LCSW\n \nRSVP: Please RSVP here. \n*Meetings will be held over Zoom and a Zoom invitation will be sent via email once you register for the group.* \n 
URL:https://es.lesturnerals.org/event/living-after-loss-bereavement-group/
END:VEVENT
END:VCALENDAR