BEGIN:VCALENDAR
VERSION:2.0
PRODID:-//Les Turner ALS Foundation - ECPv6.15.20//NONSGML v1.0//EN
CALSCALE:GREGORIAN
METHOD:PUBLISH
X-WR-CALNAME:Les Turner ALS Foundation
X-ORIGINAL-URL:https://es.lesturnerals.org
X-WR-CALDESC:Eventos para Les Turner ALS Foundation
REFRESH-INTERVAL;VALUE=DURATION:PT1H
X-Robots-Tag:noindex
X-PUBLISHED-TTL:PT1H
BEGIN:VTIMEZONE
TZID:America/Chicago
BEGIN:DAYLIGHT
TZOFFSETFROM:-0600
TZOFFSETTO:-0500
TZNAME:CDT
DTSTART:20200308T080000
END:DAYLIGHT
BEGIN:STANDARD
TZOFFSETFROM:-0500
TZOFFSETTO:-0600
TZNAME:CST
DTSTART:20201101T070000
END:STANDARD
BEGIN:DAYLIGHT
TZOFFSETFROM:-0600
TZOFFSETTO:-0500
TZNAME:CDT
DTSTART:20210314T080000
END:DAYLIGHT
BEGIN:STANDARD
TZOFFSETFROM:-0500
TZOFFSETTO:-0600
TZNAME:CST
DTSTART:20211107T070000
END:STANDARD
BEGIN:DAYLIGHT
TZOFFSETFROM:-0600
TZOFFSETTO:-0500
TZNAME:CDT
DTSTART:20220313T080000
END:DAYLIGHT
BEGIN:STANDARD
TZOFFSETFROM:-0500
TZOFFSETTO:-0600
TZNAME:CST
DTSTART:20221106T070000
END:STANDARD
BEGIN:DAYLIGHT
TZOFFSETFROM:-0600
TZOFFSETTO:-0500
TZNAME:CDT
DTSTART:20230312T080000
END:DAYLIGHT
BEGIN:STANDARD
TZOFFSETFROM:-0500
TZOFFSETTO:-0600
TZNAME:CST
DTSTART:20231105T070000
END:STANDARD
END:VTIMEZONE
BEGIN:VTIMEZONE
TZID:UTC
BEGIN:STANDARD
TZOFFSETFROM:+0000
TZOFFSETTO:+0000
TZNAME:UTC
DTSTART:20170101T000000
END:STANDARD
END:VTIMEZONE
BEGIN:VEVENT
DTSTART;TZID=America/Chicago:20210819T150000
DTEND;TZID=America/Chicago:20210819T160000
DTSTAMP:20260424T035150
CREATED:20210817T021756Z
LAST-MODIFIED:20230504T200037Z
UID:11181-1629385200-1629388800@es.lesturnerals.org
SUMMARY:Caregivers-Only Support Group
DESCRIPTION:The Caregivers Only group offers a time to talk about all the issues caregivers face in a non-judgmental\, accepting atmosphere without their loved one\, who is living with ALS\, being present. Caregivers share a common experience; life has become so tumultuous that they often feel exhausted and overwhelmed\, hungry for emotional comfort. Together\, with the guidance and encouragement of a devoted facilitator\, caregivers can find the strength to persevere. And\, by feeling heard and understood\, caregivers become more equipped to face another day with new coping strategies. \nTime: Meets the Third Thursday of each month from 3pm to 4pm \nFacilitator: Anne Lidsky\, PhD \nRSVP: Please RSVP here. \n*Meetings will be held over Zoom and a Zoom invitation will be sent via email once you register for the group.*
URL:https://es.lesturnerals.org/event/caregivers-only-support-group-thursday/
END:VEVENT
BEGIN:VEVENT
DTSTART;TZID=America/Chicago:20220224T120000
DTEND;TZID=America/Chicago:20220224T130000
DTSTAMP:20260424T035150
CREATED:20220125T222634Z
LAST-MODIFIED:20220204T173836Z
UID:12353-1645704000-1645707600@es.lesturnerals.org
SUMMARY:ALS Learning Series: Everything You Ever Wanted to Know About ALS and the Veterans Administration
DESCRIPTION:About the Program: \nVeterans are twice as likely to develop ALS in comparison to those who have not served in the military. Dr. Kvarnberg\, Clinic Director of the ALS Interdisciplinary Clinic at Edward Hines\, Jr. VA Hospital will provide an overview of the link between military service and the approach that the VA takes in caring for veterans. Dr. Kvarnberg will discuss VA benefits available to those impacted by ALS\, and share information about his clinic. This webinar will provide useful information to veterans with ALS and their caregivers wanting to know more about: \n\nClinical care and everything ordered by a VA doctor or clinician\nMedications\, supplies from pharmacy\nHome Health Care\nPhysical Therapy\nOccupational Therapy\nSpeech Therapy\nHospice & Palliative Care\nSocial Work\nMental Health\nDurable Medical Equipment\n\nAbout the Speakers: \nDr. Kvarnberg (left) and Robert Ives (right) \nDr. Kvarnberg received his medical degree from Rush University in 2003. As a medical student\, he was the recipient of a Navy Health Professional Scholarship which led him to serve four years of active duty as a Navy physician and included two deployments to Iraq with the Marines. He then received his neurology residency and neuromuscular fellowship training at the University of Illinois at Chicago. He has worked at the Hines VA Hospital since 2012 seeing veterans with general neurology complaints and complicated neuromuscular problems. He has been the Clinic Director of the Hines VA ALS Interdisciplinary clinic since he started it in 2013. The clinic sees approximately 12 patients per month in a weekly half-day of clinic. Since June 2021\, he has accepted the role as the Acting Chief of the Neurology Service at Hines. In his free time\, he is an avid hiker and regularly trains in aikido. \nRobert Ives\, a veteran living with ALS\, was diagnosed in 2014. As an engineer and business owner\, Bob never backed down from a challenge. His tenacity was formed as a young lieutenant in the Army during the building of the Berlin Wall and the Cuban Missile Crisis. Both of these traits have served him well since his diagnosis. Bob and his wife\, Mary\, are active in our Chicago Support Group\, and are dedicated donors to the Foundation’s Research and Support Services programs. \nThe webinar is a free\, public service of the Les Turner ALS Foundation. \nRegister here
URL:https://es.lesturnerals.org/event/als-learning-series-everything-you-ever-wanted-to-know-about-als-and-the-veterans-administration/
END:VEVENT
BEGIN:VEVENT
DTSTART;TZID=UTC:20180127T103000
DTEND;TZID=UTC:20180127T120000
DTSTAMP:20260424T035150
CREATED:20161110T014631Z
LAST-MODIFIED:20171215T222149Z
UID:2919-1517049000-1517054400@es.lesturnerals.org
SUMMARY:Wheaton Support Group
DESCRIPTION:*Meets the fourth Saturday of each month from 10:30am-12pm \nSupport group meetings are open to patients\, family members\, caregivers and friends. Each facility is wheelchair accessible and offers free parking. We request that you RSVP if you are planning to attend any of these meetings to assure there is availability. Alternatively\, if no one responds\, meetings will not be held. \nPlease contact Judy Richman at jrichman@es.lesturnerals.org or 847 679 3311 to RSVP\, for more information on any support groups or meetings\, or to be placed on our support group mailing list. \nFacilitator(s): Ileane Mindel\, RN and Elsa Cherwak\, PT
URL:https://es.lesturnerals.org/event/wheaton-support-group-4-2017-11-25/
LOCATION:Marianjoy Rehab Center\, 26 W 171 Roosevelt Road\, Wheaton\, IL\, 60187\, United States
END:VEVENT
END:VCALENDAR