BEGIN:VCALENDAR
VERSION:2.0
PRODID:-//Les Turner ALS Foundation - ECPv6.15.20//NONSGML v1.0//EN
CALSCALE:GREGORIAN
METHOD:PUBLISH
X-ORIGINAL-URL:https://es.lesturnerals.org
X-WR-CALDESC:Eventos para Les Turner ALS Foundation
REFRESH-INTERVAL;VALUE=DURATION:PT1H
X-Robots-Tag:noindex
X-PUBLISHED-TTL:PT1H
BEGIN:VTIMEZONE
TZID:UTC
BEGIN:STANDARD
TZOFFSETFROM:+0000
TZOFFSETTO:+0000
TZNAME:UTC
DTSTART:20170101T000000
END:STANDARD
END:VTIMEZONE
BEGIN:VEVENT
DTSTART;TZID=UTC:20210602T120000
DTEND;TZID=UTC:20210602T130000
DTSTAMP:20260421T201543
CREATED:20210513T185913Z
LAST-MODIFIED:20210513T185913Z
UID:10690-1622635200-1622638800@es.lesturnerals.org
SUMMARY:Lou Gehrig Day: A Discussion with 'Luckiest Man' Author Jonathan Eig\, hosted by WXRT's Lin Brehmer
DESCRIPTION:Lou Gehrig Day: A Discussion with ‘Luckiest Man’ Author Jonathan Eig\, hosted by WXRT’s Lin Brehmer\nWednesday\, June 2\n12pm CDT\nMajor League Baseball is officially honoring Lou Gehrig Day at ballparks across the country on June 2 and 3. To commemorate the occasion\, please join us for a very special discussion with two longtime friends of the Les Turner ALS Foundation: Jonathan Eig\, acclaimed New York Times best selling author of ‘Luckiest Man: The Life and Death of Lou Gehrig\,’ and Lin Brehmer\, renowned Chicago DJ and radio personality\, and current host of WXRT’s midday show. During the 30-minute program\, Jonathan will discuss what went into writing ‘Luckiest Man\,’ who Lou Gehrig was on and off the field\, his diagnosis and battle with ALS\, and the lasting legacy of the man forever remembered as the «Iron Horse.» \n‘Luckiest Man’ is the definitive account of the life and death of baseball legend Lou Gehrig\, and won the Casey Award for best baseball book of the year in 2006. \nJonathan Eig is the author of five books\, three of them New York Times best sellers. His most recent work\, ‘Ali: A Life\,’ won the PEN/ESPN Award for Literary Sportswriting. He was born in Brooklyn and graduated from Northwestern University’s Medill School of Journalism. A former staff writer for The Wall Street Journal\, Jonathan has also written for The New York Times\, The New Yorker online and The Washington Post. Prior to The Wall Street Journal\, he worked as a feature writer for Chicago Magazine and as a news reporter for The Dallas Morning News and The New Orleans Times-Picayune. His books have been published in more than a dozen languages. www.JonathanEig.com \nLin Brehmer is a radio DJ for Chicago’s 93XRT. He came to 93XRT in 1984 as the Music Director. From 1991 to 2020 he was the morning DJ. Lin currently hosts the midday show from 10 am – 2:30 pm. He is the biggest baseball fan you know. Bats left\, throws left. \n 
URL:https://es.lesturnerals.org/event/lou-gehrig-day-a-discussion-with-luckiest-man-author-jonathan-eig-hosted-by-wxrts-lin-brehmer/
END:VEVENT
BEGIN:VEVENT
DTSTART;TZID=UTC:20210612T110000
DTEND;TZID=UTC:20210612T113000
DTSTAMP:20260421T201543
CREATED:20210309T215611Z
LAST-MODIFIED:20210528T194423Z
UID:10014-1623495600-1623497400@es.lesturnerals.org
SUMMARY:Celebration of Life
DESCRIPTION:Celebration of Life\nSaturday\, June 12\nThis will be a moving\, 15-minute online service honoring those we have lost to ALS and includes readings from our CEO\, Andrea Pauls Backman\, and Support Group Facilitator Anne Lidsky\, PhD\, who will lead a virtual candle lighting ceremony\, and music from Cantor Adam Kahan. \nStay tuned for the Celebration of Life at 11am CDT via Facebook Live!
URL:https://es.lesturnerals.org/event/celebration-of-life-2021/
END:VEVENT
BEGIN:VEVENT
DTSTART;TZID=UTC:20180127T103000
DTEND;TZID=UTC:20180127T120000
DTSTAMP:20260421T201543
CREATED:20161110T014631Z
LAST-MODIFIED:20171215T222149Z
UID:2919-1517049000-1517054400@es.lesturnerals.org
SUMMARY:Wheaton Support Group
DESCRIPTION:*Meets the fourth Saturday of each month from 10:30am-12pm \nSupport group meetings are open to patients\, family members\, caregivers and friends. Each facility is wheelchair accessible and offers free parking. We request that you RSVP if you are planning to attend any of these meetings to assure there is availability. Alternatively\, if no one responds\, meetings will not be held. \nPlease contact Judy Richman at jrichman@es.lesturnerals.org or 847 679 3311 to RSVP\, for more information on any support groups or meetings\, or to be placed on our support group mailing list. \nFacilitator(s): Ileane Mindel\, RN and Elsa Cherwak\, PT
URL:https://es.lesturnerals.org/event/wheaton-support-group-4-2017-11-25/
LOCATION:Marianjoy Rehab Center\, 26 W 171 Roosevelt Road\, Wheaton\, IL\, 60187\, United States
END:VEVENT
END:VCALENDAR