BEGIN:VCALENDAR
VERSION:2.0
PRODID:-//Les Turner ALS Foundation - ECPv6.15.20//NONSGML v1.0//EN
CALSCALE:GREGORIAN
METHOD:PUBLISH
X-WR-CALNAME:Les Turner ALS Foundation
X-ORIGINAL-URL:https://es.lesturnerals.org
X-WR-CALDESC:Eventos para Les Turner ALS Foundation
REFRESH-INTERVAL;VALUE=DURATION:PT1H
X-Robots-Tag:noindex
X-PUBLISHED-TTL:PT1H
BEGIN:VTIMEZONE
TZID:UTC
BEGIN:STANDARD
TZOFFSETFROM:+0000
TZOFFSETTO:+0000
TZNAME:UTC
DTSTART:20170101T000000
END:STANDARD
END:VTIMEZONE
BEGIN:VEVENT
DTSTART;TZID=UTC:20200919T103000
DTEND;TZID=UTC:20200919T120000
DTSTAMP:20260424T152706
CREATED:20180928T214752Z
LAST-MODIFIED:20200825T193108Z
UID:6024-1600511400-1600516800@es.lesturnerals.org
SUMMARY:Wheaton Support Group
DESCRIPTION:*Meets the Fourth Saturday of each month from 10:30am-12pm \nTime: 10:30am – 12pm \nFacilitator(s): Ileane Mindel\, RN\, Julie Stowell\, RN\, CHPN and Elsa Cherwak\, PT \nRSVP: Please email us at supportgroup@es.lesturnerals.org to RSVP \n*Due to the Virtual ALS Walk for Life on Saturday September 26\,2020\, this group will be held on Saturday\, September 19\, 2020. 
URL:https://es.lesturnerals.org/event/wheaton-support-group-5-2020-09-26/
LOCATION:Marianjoy Rehab Center\, 26 W 171 Roosevelt Road\, Wheaton\, IL\, 60187\, United States
END:VEVENT
BEGIN:VEVENT
DTSTART;TZID=UTC:20180127T103000
DTEND;TZID=UTC:20180127T120000
DTSTAMP:20260424T152706
CREATED:20161110T014631Z
LAST-MODIFIED:20171215T222149Z
UID:2919-1517049000-1517054400@es.lesturnerals.org
SUMMARY:Wheaton Support Group
DESCRIPTION:*Meets the fourth Saturday of each month from 10:30am-12pm \nSupport group meetings are open to patients\, family members\, caregivers and friends. Each facility is wheelchair accessible and offers free parking. We request that you RSVP if you are planning to attend any of these meetings to assure there is availability. Alternatively\, if no one responds\, meetings will not be held. \nPlease contact Judy Richman at jrichman@es.lesturnerals.org or 847 679 3311 to RSVP\, for more information on any support groups or meetings\, or to be placed on our support group mailing list. \nFacilitator(s): Ileane Mindel\, RN and Elsa Cherwak\, PT
URL:https://es.lesturnerals.org/event/wheaton-support-group-4-2017-11-25/
LOCATION:Marianjoy Rehab Center\, 26 W 171 Roosevelt Road\, Wheaton\, IL\, 60187\, United States
END:VEVENT
BEGIN:VEVENT
DTSTART;TZID=UTC:20200926T110000
DTEND;TZID=UTC:20200926T120000
DTSTAMP:20260424T152706
CREATED:20200622T232202Z
LAST-MODIFIED:20200928T175131Z
UID:8471-1601118000-1601121600@es.lesturnerals.org
SUMMARY:Virtual ALS Walk for Life
DESCRIPTION:THANK YOU! \nWe couldn’t have done it without you\, it’s that simple! \nOur 2020 Virtual ALS Walk for Life welcomed walkers from 32 states and 3 countries. This truly was one of our biggest Walks ever! \nRemember\, please send us photos and videos from your Walk celebrations! Not only do we want to see how you celebrated the Walk but there could be an AMEX gift card with your name on it just for sending them in. \nCongratulations again to our fundraising winners: No Quitters for Q\, May the Force be With Linda\, Dave’s Coconut Kids\, Re Beuke\, Rhona Bresler\, Jenny Fortner\, Rosie Riley and Elizabeth Kennedy!
URL:https://es.lesturnerals.org/event/virtual-als-walk-for-life/
END:VEVENT
END:VCALENDAR