BEGIN:VCALENDAR
VERSION:2.0
PRODID:-//Les Turner ALS Foundation - ECPv6.15.20//NONSGML v1.0//EN
CALSCALE:GREGORIAN
METHOD:PUBLISH
X-ORIGINAL-URL:https://es.lesturnerals.org
X-WR-CALDESC:Eventos para Les Turner ALS Foundation
REFRESH-INTERVAL;VALUE=DURATION:PT1H
X-Robots-Tag:noindex
X-PUBLISHED-TTL:PT1H
BEGIN:VTIMEZONE
TZID:UTC
BEGIN:STANDARD
TZOFFSETFROM:+0000
TZOFFSETTO:+0000
TZNAME:UTC
DTSTART:20170101T000000
END:STANDARD
END:VTIMEZONE
BEGIN:VEVENT
DTSTART;TZID=UTC:20200716T190000
DTEND;TZID=UTC:20200716T200000
DTSTAMP:20260424T152817
CREATED:20200520T222226Z
LAST-MODIFIED:20200721T212039Z
UID:8289-1594926000-1594929600@es.lesturnerals.org
SUMMARY:Strike Out ALS 5k & 1 Mile Run\, Walk and Roll
DESCRIPTION:Strike Out ALS 5k and 1 Mile Run\, Walk & Roll\nVirtual Race \nView the Facebook Live Event \n  \nThank you to everyone who ran\, walked and rolled at our first-ever virtual Strike Out ALS 5k and 1 Mile Run\, Walk & Roll! \nWe had 23 teams join us this year and a total of 250 participants\, all racing towards a cure in support of our Les Turner ALS family. We can’t thank you enough for your support! \n \n 
URL:https://es.lesturnerals.org/event/strike-out-als-5k-1-mile-run-walk-and-roll/
END:VEVENT
BEGIN:VEVENT
DTSTART;TZID=UTC:20200718T110000
DTEND;TZID=UTC:20200718T113000
DTSTAMP:20260424T152817
CREATED:20200630T234203Z
LAST-MODIFIED:20200721T211653Z
UID:8648-1595070000-1595071800@es.lesturnerals.org
SUMMARY:Virtual Celebration of Life
DESCRIPTION:Celebration of Life\nSaturday\, July 18 at 11am\nView Facebook Live Event\n\nThis moving\, 15-minute online service honors those we have lost to ALS and includes readings from CEO Andrea Pauls Backman and Support Group Facilitator Anne Lidsky\, PhD\, who will also lead a virtual candle lighting ceremony\, with music from Cantor Adam Kahan.
URL:https://es.lesturnerals.org/event/virtual-celebration-of-life/
END:VEVENT
BEGIN:VEVENT
DTSTART;TZID=UTC:20180127T103000
DTEND;TZID=UTC:20180127T120000
DTSTAMP:20260424T152817
CREATED:20161110T014631Z
LAST-MODIFIED:20171215T222149Z
UID:2919-1517049000-1517054400@es.lesturnerals.org
SUMMARY:Wheaton Support Group
DESCRIPTION:*Meets the fourth Saturday of each month from 10:30am-12pm \nSupport group meetings are open to patients\, family members\, caregivers and friends. Each facility is wheelchair accessible and offers free parking. We request that you RSVP if you are planning to attend any of these meetings to assure there is availability. Alternatively\, if no one responds\, meetings will not be held. \nPlease contact Judy Richman at jrichman@es.lesturnerals.org or 847 679 3311 to RSVP\, for more information on any support groups or meetings\, or to be placed on our support group mailing list. \nFacilitator(s): Ileane Mindel\, RN and Elsa Cherwak\, PT
URL:https://es.lesturnerals.org/event/wheaton-support-group-4-2017-11-25/
LOCATION:Marianjoy Rehab Center\, 26 W 171 Roosevelt Road\, Wheaton\, IL\, 60187\, United States
END:VEVENT
END:VCALENDAR