BEGIN:VCALENDAR
VERSION:2.0
PRODID:-//Les Turner ALS Foundation - ECPv6.15.20//NONSGML v1.0//EN
CALSCALE:GREGORIAN
METHOD:PUBLISH
X-ORIGINAL-URL:https://es.lesturnerals.org
X-WR-CALDESC:Eventos para Les Turner ALS Foundation
REFRESH-INTERVAL;VALUE=DURATION:PT1H
X-Robots-Tag:noindex
X-PUBLISHED-TTL:PT1H
BEGIN:VTIMEZONE
TZID:UTC
BEGIN:STANDARD
TZOFFSETFROM:+0000
TZOFFSETTO:+0000
TZNAME:UTC
DTSTART:20170101T000000
END:STANDARD
END:VTIMEZONE
BEGIN:VEVENT
DTSTART;TZID=UTC:20180201T183000
DTEND;TZID=UTC:20180201T200000
DTSTAMP:20260424T202426
CREATED:20171215T213559Z
LAST-MODIFIED:20180103T204910Z
UID:4509-1517509800-1517515200@es.lesturnerals.org
SUMMARY:Chicago Support Group
DESCRIPTION:*Meets the First Thursday of each month from 6:30pm – 8pm \nSupport group meetings are open to patients\, family members\, caregivers and friends. Each facility is wheelchair accessible and offers free parking. We request that you RSVP if you are planning to attend any of these meetings to assure there is availability. Alternatively\, if no one responds\, meetings will not be held. \nPlease contact Judy Richman at jrichman@es.lesturnerals.org or 847 679 3311 to RSVP\, for more information on any support groups or meetings\, or to be placed on our support group mailing list.
URL:https://es.lesturnerals.org/event/chicago-support-group-2018-02-01/
LOCATION:Saint Xavier University\, Shannon Center 2nd floor conference room\, Saint Xavier University\, Shannon Center 2nd floor conference room\, Chicago\, IL\, 60655\, United States
END:VEVENT
BEGIN:VEVENT
DTSTART;TZID=UTC:20180127T103000
DTEND;TZID=UTC:20180127T120000
DTSTAMP:20260424T202426
CREATED:20161110T014631Z
LAST-MODIFIED:20171215T222149Z
UID:2919-1517049000-1517054400@es.lesturnerals.org
SUMMARY:Wheaton Support Group
DESCRIPTION:*Meets the fourth Saturday of each month from 10:30am-12pm \nSupport group meetings are open to patients\, family members\, caregivers and friends. Each facility is wheelchair accessible and offers free parking. We request that you RSVP if you are planning to attend any of these meetings to assure there is availability. Alternatively\, if no one responds\, meetings will not be held. \nPlease contact Judy Richman at jrichman@es.lesturnerals.org or 847 679 3311 to RSVP\, for more information on any support groups or meetings\, or to be placed on our support group mailing list. \nFacilitator(s): Ileane Mindel\, RN and Elsa Cherwak\, PT
URL:https://es.lesturnerals.org/event/wheaton-support-group-4-2017-11-25/
LOCATION:Marianjoy Rehab Center\, 26 W 171 Roosevelt Road\, Wheaton\, IL\, 60187\, United States
END:VEVENT
BEGIN:VEVENT
DTSTART;TZID=UTC:20180929T093000
DTEND;TZID=UTC:20180929T140000
DTSTAMP:20260424T202426
CREATED:20180222T222204Z
LAST-MODIFIED:20180427T205252Z
UID:4870-1538213400-1538229600@es.lesturnerals.org
SUMMARY:ALS Walk for Life
DESCRIPTION:Save the date for our annual ALS Walk for Life on Saturday\, September 29. Stay tuned for exciting new announcements and the website launch in mid-May!
URL:https://es.lesturnerals.org/event/als-walk-life-date-tbd/
LOCATION:Soldier Field\, 1410 Museum Campus Dr\, Chicago \, IL\, 60605\, United States
END:VEVENT
END:VCALENDAR