BEGIN:VCALENDAR
VERSION:2.0
PRODID:-//Les Turner ALS Foundation - ECPv6.15.20//NONSGML v1.0//EN
CALSCALE:GREGORIAN
METHOD:PUBLISH
X-ORIGINAL-URL:https://es.lesturnerals.org
X-WR-CALDESC:Eventos para Les Turner ALS Foundation
REFRESH-INTERVAL;VALUE=DURATION:PT1H
X-Robots-Tag:noindex
X-PUBLISHED-TTL:PT1H
BEGIN:VTIMEZONE
TZID:UTC
BEGIN:STANDARD
TZOFFSETFROM:+0000
TZOFFSETTO:+0000
TZNAME:UTC
DTSTART:20170101T000000
END:STANDARD
END:VTIMEZONE
BEGIN:VEVENT
DTSTART;TZID=UTC:20180201T183000
DTEND;TZID=UTC:20180201T200000
DTSTAMP:20260424T064834
CREATED:20171215T213559Z
LAST-MODIFIED:20180103T204910Z
UID:4509-1517509800-1517515200@es.lesturnerals.org
SUMMARY:Chicago Support Group
DESCRIPTION:*Meets the First Thursday of each month from 6:30pm – 8pm \nSupport group meetings are open to patients\, family members\, caregivers and friends. Each facility is wheelchair accessible and offers free parking. We request that you RSVP if you are planning to attend any of these meetings to assure there is availability. Alternatively\, if no one responds\, meetings will not be held. \nPlease contact Judy Richman at jrichman@es.lesturnerals.org or 847 679 3311 to RSVP\, for more information on any support groups or meetings\, or to be placed on our support group mailing list.
URL:https://es.lesturnerals.org/event/chicago-support-group-2018-02-01/
LOCATION:Saint Xavier University\, Shannon Center 2nd floor conference room\, Saint Xavier University\, Shannon Center 2nd floor conference room\, Chicago\, IL\, 60655\, United States
END:VEVENT
BEGIN:VEVENT
DTSTART;TZID=UTC:20180507T170000
DTEND;TZID=UTC:20180507T210000
DTSTAMP:20260424T064834
CREATED:20180222T214806Z
LAST-MODIFIED:20180406T212452Z
UID:4854-1525712400-1525726800@es.lesturnerals.org
SUMMARY:Chipotle Fundraiser
DESCRIPTION:50% of sales will go to the Les Turner ALS Foundation when you mention the Foundation or present a digital or paper flyer!
URL:https://es.lesturnerals.org/event/chipotle-fundraiser/
LOCATION:Chipotle\, Route 83\, Elmhurst\, IL
END:VEVENT
BEGIN:VEVENT
DTSTART;TZID=UTC:20180511T163000
DTEND;TZID=UTC:20180511T190000
DTSTAMP:20260424T064834
CREATED:20180501T191130Z
LAST-MODIFIED:20180511T201744Z
UID:5126-1526056200-1526065200@es.lesturnerals.org
SUMMARY:Grayslake Lacrosse vs ALS
DESCRIPTION:On Friday\, May 11th\, the Grayslake North High School and Grayslake Central High School lacrosse teams are holding their first annual Grayslake Lacrosse vs ALS Awareness Night in honor of Coach Tim Paust. \nOn game day\, 100+ Grayslake High School lacrosse players\, youth participants and community members will take part in this special night\, in recognition of Tim and his tireless energy and passion for the youth of Grayslake and the great sport of lacrosse. \nJV Game begins at 4:30pm \nVarsity Game begins at 6:00pm \nSupport:\n\nGrayslake Central Lacrosse Team\nGrayslake North Lacrosse Team\nBuffalo Wild Wings Fundraiser: Everyone is welcome to join for dinner after the game at Buffalo Wild Wing’s\, where a portion of the sales will go towards the fight against ALS.\n\n 
URL:https://es.lesturnerals.org/event/grayslake-lacrosse-vs-als/
LOCATION:Grayslake North High School\, 1925 N Illinois 83\, Grayslake\, IL\, 60030\, United States
END:VEVENT
BEGIN:VEVENT
DTSTART;TZID=UTC:20180519T080000
DTEND;TZID=UTC:20180519T130000
DTSTAMP:20260424T064834
CREATED:20171208T235638Z
LAST-MODIFIED:20171213T001247Z
UID:4386-1526716800-1526734800@es.lesturnerals.org
SUMMARY:18th Annual Lew Blond Memorial 5K Run/Walk
DESCRIPTION:Since 2001\, the Lew Blond Memorial 5K Run/Walk has been a generous Family & Community Event and supporter of those affected by ALS–attracting thousands of participants and volunteers since its inception. Held at Maple School– the run proves to be one of Northbrook’s signature community events. \nStarted in honor of Maple School teacher Lew Blond who passed away from ALS in 2000\, the race serves as an outlet for students and loved ones to cherish his memory. \nTo register visit lewblondrun.org \nFor questions\, contact events@es.lesturnerals.org
URL:https://es.lesturnerals.org/event/lew-blond-memorial-5k-run-walk/
LOCATION:Maple School\, 2370 Shermer Road\, Northbrook\, IL\, United States
END:VEVENT
BEGIN:VEVENT
DTSTART;TZID=UTC:20180127T103000
DTEND;TZID=UTC:20180127T120000
DTSTAMP:20260424T064834
CREATED:20161110T014631Z
LAST-MODIFIED:20171215T222149Z
UID:2919-1517049000-1517054400@es.lesturnerals.org
SUMMARY:Wheaton Support Group
DESCRIPTION:*Meets the fourth Saturday of each month from 10:30am-12pm \nSupport group meetings are open to patients\, family members\, caregivers and friends. Each facility is wheelchair accessible and offers free parking. We request that you RSVP if you are planning to attend any of these meetings to assure there is availability. Alternatively\, if no one responds\, meetings will not be held. \nPlease contact Judy Richman at jrichman@es.lesturnerals.org or 847 679 3311 to RSVP\, for more information on any support groups or meetings\, or to be placed on our support group mailing list. \nFacilitator(s): Ileane Mindel\, RN and Elsa Cherwak\, PT
URL:https://es.lesturnerals.org/event/wheaton-support-group-4-2017-11-25/
LOCATION:Marianjoy Rehab Center\, 26 W 171 Roosevelt Road\, Wheaton\, IL\, 60187\, United States
END:VEVENT
END:VCALENDAR