BEGIN:VCALENDAR
VERSION:2.0
PRODID:-//Les Turner ALS Foundation - ECPv6.15.20//NONSGML v1.0//EN
CALSCALE:GREGORIAN
METHOD:PUBLISH
X-ORIGINAL-URL:https://es.lesturnerals.org
X-WR-CALDESC:Eventos para Les Turner ALS Foundation
REFRESH-INTERVAL;VALUE=DURATION:PT1H
X-Robots-Tag:noindex
X-PUBLISHED-TTL:PT1H
BEGIN:VTIMEZONE
TZID:UTC
BEGIN:STANDARD
TZOFFSETFROM:+0000
TZOFFSETTO:+0000
TZNAME:UTC
DTSTART:20160101T000000
END:STANDARD
END:VTIMEZONE
BEGIN:VEVENT
DTSTART;TZID=UTC:20171006T090000
DTEND;TZID=UTC:20171006T200000
DTSTAMP:20260424T035146
CREATED:20170304T023846Z
LAST-MODIFIED:20170304T023846Z
UID:3289-1507280400-1507320000@es.lesturnerals.org
SUMMARY:Chicago Marathon Expo
DESCRIPTION:The Abbott Health & Fitness Expo features more than 200 exhibitors offering Bank of America Chicago Marathon merchandise and the latest in running footwear\, apparel\, nutrition and technology. Additionally\, the Health & Fitness Expo is the home of participant packet pick-up for all Marathon participants. Held at Chicago’s McCormick Place\, the two-day Expo is free and open to the public. \nFor questions\, comments or concerns contact events@es.lesturnerals.org 
URL:https://es.lesturnerals.org/event/chicago-marathon-expo/
LOCATION:McCormick Place\, Hall C\, 2301 South Indiana Ave.\, Chicago\, IL\, 60616\, United States
END:VEVENT
BEGIN:VEVENT
DTSTART;TZID=UTC:20171007T090000
DTEND;TZID=UTC:20171007T180000
DTSTAMP:20260424T035146
CREATED:20170304T024046Z
LAST-MODIFIED:20170304T024046Z
UID:3292-1507366800-1507399200@es.lesturnerals.org
SUMMARY:Chicago Marathon Expo
DESCRIPTION:The Abbott Health & Fitness Expo features more than 200 exhibitors offering Bank of America Chicago Marathon merchandise and the latest in running footwear\, apparel\, nutrition and technology. Additionally\, the Health & Fitness Expo is the home of participant packet pick-up for all Marathon participants. Held at Chicago’s McCormick Place\, the two-day Expo is free and open to the public. \nFor questions\, comments or concerns contact events@es.lesturnerals.org 
URL:https://es.lesturnerals.org/event/chicago-marathon-expo-2/
END:VEVENT
BEGIN:VEVENT
DTSTART;TZID=UTC:20171008T053000
DTEND;TZID=UTC:20171008T170000
DTSTAMP:20260424T035146
CREATED:20170304T025817Z
LAST-MODIFIED:20170304T030119Z
UID:3295-1507440600-1507482000@es.lesturnerals.org
SUMMARY:Bank of America Chicago Marathon 2017
DESCRIPTION:Run with Team Race for ALS in one of Chicago’s most elite and iconic athletic events! Join the team as they run alongside participants from all 50 states and over 100 countries striving to cross the finish line at Grant Park. Each step you run with Team Race for ALS raises crucial dollars for ALS research and patient care. \nRegister here or contact events@es.lesturnerals.org 
URL:https://es.lesturnerals.org/event/bank-america-chicago-marathon-2017/
LOCATION:Grant Park\, Chicago\, IL\, United States
END:VEVENT
BEGIN:VEVENT
DTSTART;TZID=UTC:20171014T193000
DTEND;TZID=UTC:20171014T230000
DTSTAMP:20260424T035146
CREATED:20170518T181003Z
LAST-MODIFIED:20170810T000744Z
UID:3707-1508009400-1508022000@es.lesturnerals.org
SUMMARY:All in For ALS Casino Night
DESCRIPTION:Join the Les Turner ALS Foundation’s Young ProfessionALS Group at the All In For ALS Casino Night as they raise awareness and funds for ALS research and patient services. This annual event has helped raise over $75\,000 for the Foundation since its inception. \nAll In For ALS is YPG’s  signature event including exciting games like Blackjack\, Roulette\, Craps and Poker all at the elegant East Bank Club. Try your luck at the tables\, shake your tail feathers with our vibrant Showgirls\, snap all the pictures you want in our photo booth and win incredible prizes. \n\nSee you at YPG’s All In For ALS Casino Night on October 14\, 2017! \nRegister today at YPGForALS.org (must be 21 years or over by event date)
URL:https://es.lesturnerals.org/event/als-casino-nights/
LOCATION:East Bank Club\, 500 N. Kinsbury St.\, Chicago\, 60654\, United States
END:VEVENT
BEGIN:VEVENT
DTSTART;TZID=UTC:20170128T103000
DTEND;TZID=UTC:20170128T120000
DTSTAMP:20260424T035146
CREATED:20161110T014631Z
LAST-MODIFIED:20161110T014631Z
UID:2908-1485599400-1485604800@es.lesturnerals.org
SUMMARY:Wheaton Support Group
DESCRIPTION:*Meets the fourth Saturday of each month from 10:30am-12pm \nSupport group meetings are open to patients\, family members\, caregivers and friends. Each facility is wheelchair accessible and offers free parking. We request that you RSVP if you are planning to attend any of these meetings to assure there is availability. Alternatively\, if no one responds\, meetings will not be held. \nPlease contact Judy Richman at jrichman@es.lesturnerals.org or 847 679 3311 to RSVP\, for more information on any support groups or meetings\, or to be placed on our support group mailing list. \nFacilitator(s): Ileane Mindel\, RN and Elsa Cherwak\, PT
URL:https://es.lesturnerals.org/event/wheaton-support-group-4/
LOCATION:Marianjoy Rehab Center\, 26 W 171 Roosevelt Road\, Wheaton\, IL\, 60187\, United States
END:VEVENT
END:VCALENDAR