BEGIN:VCALENDAR
VERSION:2.0
PRODID:-//Les Turner ALS Foundation - ECPv6.15.20//NONSGML v1.0//EN
CALSCALE:GREGORIAN
METHOD:PUBLISH
X-WR-CALNAME:Les Turner ALS Foundation
X-ORIGINAL-URL:https://es.lesturnerals.org
X-WR-CALDESC:Eventos para Les Turner ALS Foundation
REFRESH-INTERVAL;VALUE=DURATION:PT1H
X-Robots-Tag:noindex
X-PUBLISHED-TTL:PT1H
BEGIN:VTIMEZONE
TZID:UTC
BEGIN:STANDARD
TZOFFSETFROM:+0000
TZOFFSETTO:+0000
TZNAME:UTC
DTSTART:20160101T000000
END:STANDARD
END:VTIMEZONE
BEGIN:VEVENT
DTSTART;TZID=UTC:20170603T080000
DTEND;TZID=UTC:20170603T133000
DTSTAMP:20260424T152643
CREATED:20170303T230959Z
LAST-MODIFIED:20170317T012722Z
UID:3269-1496476800-1496496600@es.lesturnerals.org
SUMMARY:Gary Griffith Golf Outing
DESCRIPTION:‘Swing’ on by to join us at the 7th annual Gary Griffith Golf Outing\, hosted by Gary’s very own family and friends. Held at the scenic Ruffled Feathers Golf Club\, you can get your summer golf fix while providing hope and help to the ALS community. \nRegister here: events.lesturnerals.org/GaryGriffith \nFor questions\, comments or concerns contact events@es.lesturnerals.org 
URL:https://es.lesturnerals.org/event/gary-griffith-golf-outing-2/
LOCATION:Ruffled Feathers Golf Club\, 1 Pete Dye Drive\, Lemont\, IL\, 60439\, United States
END:VEVENT
BEGIN:VEVENT
DTSTART;TZID=UTC:20170605T120000
DTEND;TZID=UTC:20170605T173000
DTSTAMP:20260424T152643
CREATED:20170304T003045Z
LAST-MODIFIED:20170304T003438Z
UID:3274-1496664000-1496683800@es.lesturnerals.org
SUMMARY:Sanderson Cup ALS Golf Outing
DESCRIPTION:Cory Sanderson invites you to the 2nd annual Sanderson Cup ALS Golf Outing. Golf being one of his greatest passions in life\, Corey’s family and friends decided to organize the event after his diagnosis of ALS almost two years ago. Originating from Elgin\, join the Sanderson’s community effort to help Cory fight ALS. \nStay tuned for details. For questions\, comments or concerns\, contact events@es.lesturnerals.org  \n 
URL:https://es.lesturnerals.org/event/sanderson-cup-als-golf-outing-2/
LOCATION:Elgin Country Club\, 2575 Weld Road \, Elgin\, IL\, 60124\, United States
END:VEVENT
BEGIN:VEVENT
DTSTART;TZID=UTC:20170614T183000
DTEND;TZID=UTC:20170614T203000
DTSTAMP:20260424T152643
CREATED:20170520T012912Z
LAST-MODIFIED:20170520T012912Z
UID:3732-1497465000-1497472200@es.lesturnerals.org
SUMMARY:South Suburban Community Event
DESCRIPTION:At the South Suburban Community event\, the Les Turner ALS Foundation will those who have supported efforts towards finding a cure for ALS. Join us in honoring our Corporate Partner of the Year\, Gold Eagle\, and our Volunteers of the Year\, the Matt Creen Golf Invitational organizers. Their continued generosity has made a profound impact on all those affected by ALS. At the Butler Reception Room at St. Xavier University\, the evening promises to be one of celebration and recognition. \nRSVP to info@es.lesturnerals.org 
URL:https://es.lesturnerals.org/event/south-suburban-community-event/
LOCATION:St. Xavier University\, 3700 W. 103rd St. \, Chicago \, IL\, United States
END:VEVENT
BEGIN:VEVENT
DTSTART;TZID=UTC:20170623T080000
DTEND;TZID=UTC:20170625T170000
DTSTAMP:20260424T152643
CREATED:20170520T011821Z
LAST-MODIFIED:20170520T012952Z
UID:3724-1498204800-1498410000@es.lesturnerals.org
SUMMARY:Abilities Expo
DESCRIPTION:Stop by the Les Turner ALS Foundation booth at the Chicago Abilities Expo on Friday\, June 23 – Sunday\, June 25 at the Renaissance Schaumburg Convention Center. For 40 years\, the Abilities Expo has been the go-to source for the Community of people with disabilities\, their families\, seniors\, veterans and healthcare professionals. \nStay tuned for details on how to register. For questions\, contact info@es.lesturnerals.org
URL:https://es.lesturnerals.org/event/abilities-expo-2/
LOCATION:Renaissance Schaumburg Convention Center\, 1551 Thoreau Drive North\, Schaumburg\, IL\, 60173\, United States
END:VEVENT
BEGIN:VEVENT
DTSTART;TZID=UTC:20170624T180000
DTEND;TZID=UTC:20170624T180000
DTSTAMP:20260424T152643
CREATED:20170520T012147Z
LAST-MODIFIED:20170623T231420Z
UID:3729-1498327200-1498327200@es.lesturnerals.org
SUMMARY:YPG All in for ALS Pub Crawl
DESCRIPTION:Join the Les Turner ALS Foundation’s Young ProfessionALS Group for the 3rd Annual ALS Pub Crawl. Set in the heart of Chicago’s Wicker Park neighborhood; experience all the fun this vibrant area has to offer. With drink specials at every bar\, sweet Foundation sunglasses and drink koozies\, supporting Chicgoland’s largest ALS organization proves to be a lot of fun! Come along as we hop from bar to bar while supporting all those affected by ALS. \nRegistration for this event is now closed\, but you may purchase tickets at the door. Donations can be made at events.lesturnerals.org/pubcrawl \nEntry Fee:\nAt the Door Ticket – $40 \nITINERARY: \n1:00pm\nThe Fifty/50 (2047 W. Division)\nDEALS: $3 Domestic bottles\, $6 Belvedere drinks\, $6 Jameson shots \n2:00pm\nThe Boundary Tavern and Grille (1932 W. Division)\nDEALS: $3 Old Style\, $4 Deschutes Red Chair Ale\, $5 Absolut cocktails \n3:00pm\nThe Anthem Bar Chicago (1725 W. Division)\nDEALS: $3 Miller Lite\, Miller High Life\, Bud Light\, Lone Star\, PBR\, Schlitz\, $3 house bourbon shots \n4:00pm\nEasy Bar (1944 W. Division)\nDEALS: $1 off all regular priced drinks\, shot and happy hour specials \n5:00pm\nInnjoy (2051 W. Division)\nDEALS – $6 Vodka lemonade slushes\, $5 SweetWater IPA\, food special\n  \n 
URL:https://es.lesturnerals.org/event/ypg-als-pub-crawl/
END:VEVENT
BEGIN:VEVENT
DTSTART;TZID=UTC:20170128T103000
DTEND;TZID=UTC:20170128T120000
DTSTAMP:20260424T152643
CREATED:20161110T014631Z
LAST-MODIFIED:20161110T014631Z
UID:2908-1485599400-1485604800@es.lesturnerals.org
SUMMARY:Wheaton Support Group
DESCRIPTION:*Meets the fourth Saturday of each month from 10:30am-12pm \nSupport group meetings are open to patients\, family members\, caregivers and friends. Each facility is wheelchair accessible and offers free parking. We request that you RSVP if you are planning to attend any of these meetings to assure there is availability. Alternatively\, if no one responds\, meetings will not be held. \nPlease contact Judy Richman at jrichman@es.lesturnerals.org or 847 679 3311 to RSVP\, for more information on any support groups or meetings\, or to be placed on our support group mailing list. \nFacilitator(s): Ileane Mindel\, RN and Elsa Cherwak\, PT
URL:https://es.lesturnerals.org/event/wheaton-support-group-4/
LOCATION:Marianjoy Rehab Center\, 26 W 171 Roosevelt Road\, Wheaton\, IL\, 60187\, United States
END:VEVENT
BEGIN:VEVENT
DTSTART;TZID=UTC:20170628T190000
DTEND;TZID=UTC:20170628T203000
DTSTAMP:20260424T152643
CREATED:20161110T013131Z
LAST-MODIFIED:20170615T010049Z
UID:2888-1498676400-1498681800@es.lesturnerals.org
SUMMARY:Skokie Support Group
DESCRIPTION:*Meets the Third Wednesday of each month from 7:00pm-8:30pm\nSupport group meetings are open to patients\, family members\, caregivers and friends. Each facility is wheelchair accessible and offers free parking. We request that you RSVP if you are planning to attend any of these meetings to assure there is availability. Alternatively\, if no one responds\, meetings will not be held. \nPlease contact Judy Richman at jrichman@es.lesturnerals.org or 847 679 3311 to RSVP\, for more information on any support groups or meetings\, or to be placed on our support group mailing list. \nFacilitator(s): Ileane Mindel\, RN and Anne Lidsky\, PhD
URL:https://es.lesturnerals.org/event/skokie-support-group-4-2017-06-21/
LOCATION:Les Turner ALS Foundation Office\, 5550 W. Touhy Ave\, Skokie\, IL\, 60077\, United States
END:VEVENT
END:VCALENDAR