BEGIN:VCALENDAR
VERSION:2.0
PRODID:-//Les Turner ALS Foundation - ECPv6.15.20//NONSGML v1.0//EN
CALSCALE:GREGORIAN
METHOD:PUBLISH
X-ORIGINAL-URL:https://es.lesturnerals.org
X-WR-CALDESC:Eventos para Les Turner ALS Foundation
REFRESH-INTERVAL;VALUE=DURATION:PT1H
X-Robots-Tag:noindex
X-PUBLISHED-TTL:PT1H
BEGIN:VTIMEZONE
TZID:UTC
BEGIN:STANDARD
TZOFFSETFROM:+0000
TZOFFSETTO:+0000
TZNAME:UTC
DTSTART:20160101T000000
END:STANDARD
END:VTIMEZONE
BEGIN:VEVENT
DTSTART;TZID=UTC:20170401T090000
DTEND;TZID=UTC:20170401T180000
DTSTAMP:20260424T213518
CREATED:20170210T223248Z
LAST-MODIFIED:20170210T223248Z
UID:3205-1491037200-1491069600@es.lesturnerals.org
SUMMARY:Bank of America Shamrock Shuffle Health & Fitness Expo
DESCRIPTION:Celebrate St. Patrick’s Day and the spring running season at the Bank of America Shamrock Shuffle 8K Health & Fitness Expo. The Health & Fitness Expo features more than 80 exhibiting companies\, offering runners and walkers the latest in footwear\, apparel\, nutrition and technology. The Expo is free and open to public. \nThis is also an opportunity for Team Race for ALS participants to pickup their packet and materials: timing devices (for 8K)\, event bib number\, Nike participant running shirt and other Les Turner merchandise. \nFor questions regarding the Bank of America Shamrock Shuffle Health & Fitness Expo\, contact events@es.lesturnerals.org
URL:https://es.lesturnerals.org/event/bank-america-shamrock-shuffle-health-fitness-expo/
LOCATION:McCormick Place\, Hall C\, 2301 South Indiana Ave.\, Chicago\, IL\, 60616\, United States
END:VEVENT
BEGIN:VEVENT
DTSTART;TZID=UTC:20170402T063000
DTEND;TZID=UTC:20170402T130000
DTSTAMP:20260424T213518
CREATED:20170210T222324Z
LAST-MODIFIED:20170210T223440Z
UID:3198-1491114600-1491138000@es.lesturnerals.org
SUMMARY:Bank of America Shamrock Shuffle 8K run and 2 mile walk
DESCRIPTION:Join Team Race for ALS at the Shamrock Shuffle on April 2\, 2017. Participate in this festive 8K run and 2 mile walk to celebrate St. Patrick’s Day while providing hope and help to the ALS community. Weaving through The Loop and ending in iconic Grant Park\, the Shamrock Shuffle is deemed one of Chicago’s top running events. \nFor questions regarding the Bank of America Shamrock Shuffle 8K run and 2 mile walk\, contact events@es.lesturnerals.org 
URL:https://es.lesturnerals.org/event/shamrock-shuffle-8k-run-2-mile-walk/
LOCATION:Grant Park\, Chicago\, IL\, United States
END:VEVENT
BEGIN:VEVENT
DTSTART;TZID=UTC:20170128T103000
DTEND;TZID=UTC:20170128T120000
DTSTAMP:20260424T213518
CREATED:20161110T014631Z
LAST-MODIFIED:20161110T014631Z
UID:2908-1485599400-1485604800@es.lesturnerals.org
SUMMARY:Wheaton Support Group
DESCRIPTION:*Meets the fourth Saturday of each month from 10:30am-12pm \nSupport group meetings are open to patients\, family members\, caregivers and friends. Each facility is wheelchair accessible and offers free parking. We request that you RSVP if you are planning to attend any of these meetings to assure there is availability. Alternatively\, if no one responds\, meetings will not be held. \nPlease contact Judy Richman at jrichman@es.lesturnerals.org or 847 679 3311 to RSVP\, for more information on any support groups or meetings\, or to be placed on our support group mailing list. \nFacilitator(s): Ileane Mindel\, RN and Elsa Cherwak\, PT
URL:https://es.lesturnerals.org/event/wheaton-support-group-4/
LOCATION:Marianjoy Rehab Center\, 26 W 171 Roosevelt Road\, Wheaton\, IL\, 60187\, United States
END:VEVENT
END:VCALENDAR