BEGIN:VCALENDAR
VERSION:2.0
PRODID:-//Les Turner ALS Foundation - ECPv6.15.20//NONSGML v1.0//EN
CALSCALE:GREGORIAN
METHOD:PUBLISH
X-ORIGINAL-URL:https://es.lesturnerals.org
X-WR-CALDESC:Eventos para Les Turner ALS Foundation
REFRESH-INTERVAL;VALUE=DURATION:PT1H
X-Robots-Tag:noindex
X-PUBLISHED-TTL:PT1H
BEGIN:VTIMEZONE
TZID:America/Chicago
BEGIN:DAYLIGHT
TZOFFSETFROM:-0600
TZOFFSETTO:-0500
TZNAME:CDT
DTSTART:20230312T080000
END:DAYLIGHT
BEGIN:STANDARD
TZOFFSETFROM:-0500
TZOFFSETTO:-0600
TZNAME:CST
DTSTART:20231105T070000
END:STANDARD
BEGIN:DAYLIGHT
TZOFFSETFROM:-0600
TZOFFSETTO:-0500
TZNAME:CDT
DTSTART:20240310T080000
END:DAYLIGHT
BEGIN:STANDARD
TZOFFSETFROM:-0500
TZOFFSETTO:-0600
TZNAME:CST
DTSTART:20241103T070000
END:STANDARD
BEGIN:DAYLIGHT
TZOFFSETFROM:-0600
TZOFFSETTO:-0500
TZNAME:CDT
DTSTART:20250309T080000
END:DAYLIGHT
BEGIN:STANDARD
TZOFFSETFROM:-0500
TZOFFSETTO:-0600
TZNAME:CST
DTSTART:20251102T070000
END:STANDARD
END:VTIMEZONE
BEGIN:VTIMEZONE
TZID:UTC
BEGIN:STANDARD
TZOFFSETFROM:+0000
TZOFFSETTO:+0000
TZNAME:UTC
DTSTART:20220101T000000
END:STANDARD
END:VTIMEZONE
BEGIN:VEVENT
DTSTART;TZID=America/Chicago:20240131T120000
DTEND;TZID=America/Chicago:20240131T130000
DTSTAMP:20260421T111101
CREATED:20240111T215731Z
LAST-MODIFIED:20240111T215755Z
UID:19533-1706702400-1706706000@es.lesturnerals.org
SUMMARY:ALS Learning Series: A Conversation with a Genetic Counselor
DESCRIPTION:Wednesday\, January 31\, 2024\, 12:00 p.m.\, CST \n\n\n\n\n\n\n\nThe Les Turner ALS Foundation is proud to offer this webinar at no cost to the ALS community. Thank you to the Gilbert & Jacqueline Fern Foundation\, Mitsubishi Tanabe Pharma America & Biogen for sponsoring this webinar. \nAbout the Presentation: \n\n\n\n\n\nNavigating ALS care can be complicated and filled with many complex decisions\, including whether genetic testing is right for you. Join us for a discussion with genetic counselor Laynie Dratch\, ScM CGC\, as she describes the role of a genetic counselor and addresses common questions about the genetics of ALS-FTD spectrum disorders\, the genetic testing process\, and more. Laynie welcomes you to come with questions for discussion. \nAbout the Speaker: \n\n\nLaynie Dratch\, ScM CGC \nLaynie Dratch\, ScM CGC is a board-certified genetic counselor for the Penn Frontotemporal Degeneration (FTD) Center and Penn Amyotrophic Lateral Sclerosis (ALS) Center in the Department of Neurology at the University of Pennsylvania. She is the co-founder and chair of the ALS/FTD Working Group within the National Society of Genetic Counselor’s Neurogenetics group\, as well as the co-founder of the annual Penn Familial FTD/ALS Conference. Her research interests include the lived experiences of individuals at risk of developing ALS/FTD spectrum disorders\, and genetic counseling access and service delivery. Laynie completed her master’s in genetic counseling at the Johns Hopkins University / National Institutes of Health genetic counseling training program and completed her undergraduate studies at Colgate University where she graduated summa cum laude with a BA in neuroscience and a minor in psychology. 
URL:https://es.lesturnerals.org/event/a-conversation-with-a-genetic-counselor-could-the-als-in-my-family-be-genetic/
END:VEVENT
BEGIN:VEVENT
DTSTART;TZID=America/Chicago:20240125T180000
DTEND;TZID=America/Chicago:20240125T193000
DTSTAMP:20260421T111101
CREATED:20240117T215953Z
LAST-MODIFIED:20240117T221045Z
UID:19586-1706205600-1706211000@es.lesturnerals.org
SUMMARY:Moving Forward After Loss Spousal/Partner Bereavement Group Winter Session
DESCRIPTION:A closed\, six-week therapeutic bereavement group for spouses or partners of people who have died from ALS within the past six to nine months. \nThis group provides support\, validation\, and education in a supportive setting to those who are grieving the loss of their loved one. \nWinter Session – January 25 – February 27\, 2024 \nTime: 6 – 7:30 p.m. C.S.T\nFacilitator: Easton Stevenson\, LCSW \nRSVP: Please register here. This group is invite only.
URL:https://es.lesturnerals.org/event/moving-forward-after-loss-spousal-partner-bereavement-group-winter-session/
END:VEVENT
BEGIN:VEVENT
DTSTART;TZID=America/Chicago:20240125T180000
DTEND;TZID=America/Chicago:20240125T193000
DTSTAMP:20260421T111101
CREATED:20240117T215953Z
LAST-MODIFIED:20240117T221045Z
UID:19586-1706205600-1706211000@es.lesturnerals.org
SUMMARY:Moving Forward After Loss Spousal/Partner Bereavement Group Winter Session
DESCRIPTION:A closed\, six-week therapeutic bereavement group for spouses or partners of people who have died from ALS within the past six to nine months. \nThis group provides support\, validation\, and education in a supportive setting to those who are grieving the loss of their loved one. \nWinter Session – January 25 – February 27\, 2024 \nTime: 6 – 7:30 p.m. C.S.T\nFacilitator: Easton Stevenson\, LCSW \nRSVP: Please register here. This group is invite only.
URL:https://es.lesturnerals.org/event/moving-forward-after-loss-spousal-partner-bereavement-group-winter-session/
END:VEVENT
BEGIN:VEVENT
DTSTART;TZID=UTC:20230114T103000
DTEND;TZID=UTC:20230114T120000
DTSTAMP:20260421T111101
CREATED:20171215T212728Z
LAST-MODIFIED:20240110T191029Z
UID:4481-1673692200-1673697600@es.lesturnerals.org
SUMMARY:Navigating ALS Together Support Group
DESCRIPTION:Meets the Second Saturday of each month from 10:30am – 12:00 pm \nFacilitator(s): Karen Raley Steffens\, RN\, CHPN\, CCM \nRSVP: Please email us at supportgroup@es.lesturnerals.org to RSVP \n*Meetings will be held over Zoom and a Zoom invitation will be sent via email once you register for the group.*
URL:https://es.lesturnerals.org/event/navigating-als-together/
END:VEVENT
BEGIN:VEVENT
DTSTART;TZID=America/Chicago:20240118T150000
DTEND;TZID=America/Chicago:20240118T160000
DTSTAMP:20260421T111101
CREATED:20240110T193053Z
LAST-MODIFIED:20240110T193254Z
UID:19482-1705590000-1705593600@es.lesturnerals.org
SUMMARY:ALS Caregivers Support Group
DESCRIPTION:The Caregivers Only group offers a time to talk about all the issues caregivers face in a non-judgmental\, accepting atmosphere without their loved one\, who is living with ALS\, being present. Caregivers share a common experience; life has become so tumultuous that they often feel exhausted and overwhelmed\, hungry for emotional comfort. Together\, with the guidance and encouragement of a devoted facilitator\, caregivers can find the strength to persevere. And\, by feeling heard and understood\, caregivers become more equipped to face another day with new coping strategies. \nTime: Meets the Third Thursday of each month from 3:00 – 4:00 p.m. \nFacilitator: Anne Lidsky\, PhD \nRSVP: Please RSVP here. \n*Meetings will be held over Zoom and a Zoom invitation will be sent via email once you register for the group.*
URL:https://es.lesturnerals.org/event/caregiversupport-group-2-3/
END:VEVENT
BEGIN:VEVENT
DTSTART;TZID=America/Chicago:20240125T180000
DTEND;TZID=America/Chicago:20240125T193000
DTSTAMP:20260421T111101
CREATED:20240117T215953Z
LAST-MODIFIED:20240117T221045Z
UID:19586-1706205600-1706211000@es.lesturnerals.org
SUMMARY:Moving Forward After Loss Spousal/Partner Bereavement Group Winter Session
DESCRIPTION:A closed\, six-week therapeutic bereavement group for spouses or partners of people who have died from ALS within the past six to nine months. \nThis group provides support\, validation\, and education in a supportive setting to those who are grieving the loss of their loved one. \nWinter Session – January 25 – February 27\, 2024 \nTime: 6 – 7:30 p.m. C.S.T\nFacilitator: Easton Stevenson\, LCSW \nRSVP: Please register here. This group is invite only.
URL:https://es.lesturnerals.org/event/moving-forward-after-loss-spousal-partner-bereavement-group-winter-session/
END:VEVENT
BEGIN:VEVENT
DTSTART;TZID=UTC:20231120T140000
DTEND;TZID=UTC:20231120T150000
DTSTAMP:20260421T111101
CREATED:20231024T194007Z
LAST-MODIFIED:20240110T191530Z
UID:19125-1700488800-1700492400@es.lesturnerals.org
SUMMARY:Navigating ALS Together Support Group
DESCRIPTION:Meets the Third Monday of each month from 2-3:15 p.m. \nFacilitator: Anne Lidsky\, PhD \nRSVP: Please email us at supportgroup@es.lesturnerals.org to RSVP \n*Meetings will be held over Zoom and a Zoom invitation will be sent via email once you register for the group.*
URL:https://es.lesturnerals.org/event/navigatingalstogether/
END:VEVENT
BEGIN:VEVENT
DTSTART;TZID=America/Chicago:20240115T153000
DTEND;TZID=America/Chicago:20240115T163000
DTSTAMP:20260421T111101
CREATED:20240110T192825Z
LAST-MODIFIED:20240110T193410Z
UID:19480-1705332600-1705336200@es.lesturnerals.org
SUMMARY:ALS Caregivers Support Group
DESCRIPTION:The Caregivers Only group offers a time to talk about all the issues caregivers face in a non-judgmental\, accepting atmosphere without their loved one\, who is living with ALS\, being present. Caregivers share a common experience; life has become so tumultuous that they often feel exhausted and overwhelmed\, hungry for emotional comfort. Together\, with the guidance and encouragement of a devoted facilitator\, caregivers can find the strength to persevere. And\, by feeling heard and understood\, caregivers become more equipped to face another day with new coping strategies. \nTime: Meets the Third Monday of each month from 3:30 – 4:30 p.m. \nFacilitator: Anne Lidsky\, PhD \nRSVP: Please RSVP here. \n*Meetings will be held over Zoom and a Zoom invitation will be sent via email once you register for the group.*
URL:https://es.lesturnerals.org/event/caregivers-only-support-group-thursday-2/
END:VEVENT
BEGIN:VEVENT
DTSTART;TZID=America/Chicago:20240125T180000
DTEND;TZID=America/Chicago:20240125T193000
DTSTAMP:20260421T111101
CREATED:20240117T215953Z
LAST-MODIFIED:20240117T221045Z
UID:19586-1706205600-1706211000@es.lesturnerals.org
SUMMARY:Moving Forward After Loss Spousal/Partner Bereavement Group Winter Session
DESCRIPTION:A closed\, six-week therapeutic bereavement group for spouses or partners of people who have died from ALS within the past six to nine months. \nThis group provides support\, validation\, and education in a supportive setting to those who are grieving the loss of their loved one. \nWinter Session – January 25 – February 27\, 2024 \nTime: 6 – 7:30 p.m. C.S.T\nFacilitator: Easton Stevenson\, LCSW \nRSVP: Please register here. This group is invite only.
URL:https://es.lesturnerals.org/event/moving-forward-after-loss-spousal-partner-bereavement-group-winter-session/
END:VEVENT
BEGIN:VEVENT
DTSTART;TZID=UTC:20240127T103000
DTEND;TZID=UTC:20240127T113000
DTSTAMP:20260421T111101
CREATED:20240110T192230Z
LAST-MODIFIED:20240110T192232Z
UID:19476-1706351400-1706355000@es.lesturnerals.org
SUMMARY:Navigating ALS Together Support Group
DESCRIPTION:Meets the Fourth Saturday of each month from 10:30 am-11:30 a.m. \nFacilitator(s): Rochelle Walwer\, LCSW \nRSVP: Click here to register \n*Meetings will be held over Zoom and a Zoom invitation will be sent via email once you register for the group.*
URL:https://es.lesturnerals.org/event/navigatingalstogether-2/
END:VEVENT
BEGIN:VEVENT
DTSTART;TZID=America/Chicago:20240122T180000
DTEND;TZID=America/Chicago:20240122T193000
DTSTAMP:20260421T111101
CREATED:20240110T194328Z
LAST-MODIFIED:20240110T194515Z
UID:19488-1705946400-1705951800@es.lesturnerals.org
SUMMARY:Living After Loss (Bereavement Group)
DESCRIPTION:An open\, supportive monthly bereavement group for anyone (family\, friend\, etc.) who has lost a loved one to ALS within the past year. This group will provide a place to connect with others who have experienced the loss of a loved one to ALS; stories will be told\, feelings will be explored\, and information will be shared about how to remain connected to the memory of a loved one. \nDate: Fourth Monday \nTime: 6pm – 7:30pm \nFacilitator(s): Easton Stevenson\, LCSW\n \nRSVP: Please RSVP here. \n*Meetings will be held over Zoom and a Zoom invitation will be sent via email once you register for the group.* \n 
URL:https://es.lesturnerals.org/event/living-after-loss-bereavement-group-2-2/
END:VEVENT
BEGIN:VEVENT
DTSTART;TZID=America/Chicago:20240125T180000
DTEND;TZID=America/Chicago:20240125T193000
DTSTAMP:20260421T111101
CREATED:20240117T215953Z
LAST-MODIFIED:20240117T221045Z
UID:19586-1706205600-1706211000@es.lesturnerals.org
SUMMARY:Moving Forward After Loss Spousal/Partner Bereavement Group Winter Session
DESCRIPTION:A closed\, six-week therapeutic bereavement group for spouses or partners of people who have died from ALS within the past six to nine months. \nThis group provides support\, validation\, and education in a supportive setting to those who are grieving the loss of their loved one. \nWinter Session – January 25 – February 27\, 2024 \nTime: 6 – 7:30 p.m. C.S.T\nFacilitator: Easton Stevenson\, LCSW \nRSVP: Please register here. This group is invite only.
URL:https://es.lesturnerals.org/event/moving-forward-after-loss-spousal-partner-bereavement-group-winter-session/
END:VEVENT
BEGIN:VEVENT
DTSTART;TZID=UTC:20230114T103000
DTEND;TZID=UTC:20230114T120000
DTSTAMP:20260421T111101
CREATED:20171215T212728Z
LAST-MODIFIED:20240110T191029Z
UID:4481-1673692200-1673697600@es.lesturnerals.org
SUMMARY:Navigating ALS Together Support Group
DESCRIPTION:Meets the Second Saturday of each month from 10:30am – 12:00 pm \nFacilitator(s): Karen Raley Steffens\, RN\, CHPN\, CCM \nRSVP: Please email us at supportgroup@es.lesturnerals.org to RSVP \n*Meetings will be held over Zoom and a Zoom invitation will be sent via email once you register for the group.*
URL:https://es.lesturnerals.org/event/navigating-als-together/
END:VEVENT
BEGIN:VEVENT
DTSTART;TZID=UTC:20231120T140000
DTEND;TZID=UTC:20231120T150000
DTSTAMP:20260421T111101
CREATED:20231024T194007Z
LAST-MODIFIED:20240110T191530Z
UID:19125-1700488800-1700492400@es.lesturnerals.org
SUMMARY:Navigating ALS Together Support Group
DESCRIPTION:Meets the Third Monday of each month from 2-3:15 p.m. \nFacilitator: Anne Lidsky\, PhD \nRSVP: Please email us at supportgroup@es.lesturnerals.org to RSVP \n*Meetings will be held over Zoom and a Zoom invitation will be sent via email once you register for the group.*
URL:https://es.lesturnerals.org/event/navigatingalstogether/
END:VEVENT
BEGIN:VEVENT
DTSTART;TZID=America/Chicago:20240115T153000
DTEND;TZID=America/Chicago:20240115T163000
DTSTAMP:20260421T111101
CREATED:20240110T192825Z
LAST-MODIFIED:20240110T193410Z
UID:19480-1705332600-1705336200@es.lesturnerals.org
SUMMARY:ALS Caregivers Support Group
DESCRIPTION:The Caregivers Only group offers a time to talk about all the issues caregivers face in a non-judgmental\, accepting atmosphere without their loved one\, who is living with ALS\, being present. Caregivers share a common experience; life has become so tumultuous that they often feel exhausted and overwhelmed\, hungry for emotional comfort. Together\, with the guidance and encouragement of a devoted facilitator\, caregivers can find the strength to persevere. And\, by feeling heard and understood\, caregivers become more equipped to face another day with new coping strategies. \nTime: Meets the Third Monday of each month from 3:30 – 4:30 p.m. \nFacilitator: Anne Lidsky\, PhD \nRSVP: Please RSVP here. \n*Meetings will be held over Zoom and a Zoom invitation will be sent via email once you register for the group.*
URL:https://es.lesturnerals.org/event/caregivers-only-support-group-thursday-2/
END:VEVENT
BEGIN:VEVENT
DTSTART;TZID=America/Chicago:20240118T150000
DTEND;TZID=America/Chicago:20240118T160000
DTSTAMP:20260421T111101
CREATED:20240110T193053Z
LAST-MODIFIED:20240110T193254Z
UID:19482-1705590000-1705593600@es.lesturnerals.org
SUMMARY:ALS Caregivers Support Group
DESCRIPTION:The Caregivers Only group offers a time to talk about all the issues caregivers face in a non-judgmental\, accepting atmosphere without their loved one\, who is living with ALS\, being present. Caregivers share a common experience; life has become so tumultuous that they often feel exhausted and overwhelmed\, hungry for emotional comfort. Together\, with the guidance and encouragement of a devoted facilitator\, caregivers can find the strength to persevere. And\, by feeling heard and understood\, caregivers become more equipped to face another day with new coping strategies. \nTime: Meets the Third Thursday of each month from 3:00 – 4:00 p.m. \nFacilitator: Anne Lidsky\, PhD \nRSVP: Please RSVP here. \n*Meetings will be held over Zoom and a Zoom invitation will be sent via email once you register for the group.*
URL:https://es.lesturnerals.org/event/caregiversupport-group-2-3/
END:VEVENT
BEGIN:VEVENT
DTSTART;TZID=UTC:20240127T103000
DTEND;TZID=UTC:20240127T113000
DTSTAMP:20260421T111101
CREATED:20240110T192230Z
LAST-MODIFIED:20240110T192232Z
UID:19476-1706351400-1706355000@es.lesturnerals.org
SUMMARY:Navigating ALS Together Support Group
DESCRIPTION:Meets the Fourth Saturday of each month from 10:30 am-11:30 a.m. \nFacilitator(s): Rochelle Walwer\, LCSW \nRSVP: Click here to register \n*Meetings will be held over Zoom and a Zoom invitation will be sent via email once you register for the group.*
URL:https://es.lesturnerals.org/event/navigatingalstogether-2/
END:VEVENT
BEGIN:VEVENT
DTSTART;TZID=America/Chicago:20240122T180000
DTEND;TZID=America/Chicago:20240122T193000
DTSTAMP:20260421T111101
CREATED:20240110T194328Z
LAST-MODIFIED:20240110T194515Z
UID:19488-1705946400-1705951800@es.lesturnerals.org
SUMMARY:Living After Loss (Bereavement Group)
DESCRIPTION:An open\, supportive monthly bereavement group for anyone (family\, friend\, etc.) who has lost a loved one to ALS within the past year. This group will provide a place to connect with others who have experienced the loss of a loved one to ALS; stories will be told\, feelings will be explored\, and information will be shared about how to remain connected to the memory of a loved one. \nDate: Fourth Monday \nTime: 6pm – 7:30pm \nFacilitator(s): Easton Stevenson\, LCSW\n \nRSVP: Please RSVP here. \n*Meetings will be held over Zoom and a Zoom invitation will be sent via email once you register for the group.* \n 
URL:https://es.lesturnerals.org/event/living-after-loss-bereavement-group-2-2/
END:VEVENT
BEGIN:VEVENT
DTSTART;TZID=America/Chicago:20240411T180000
DTEND;TZID=America/Chicago:20240411T193000
DTSTAMP:20260421T111101
CREATED:20240117T220309Z
LAST-MODIFIED:20240117T221300Z
UID:19593-1712858400-1712863800@es.lesturnerals.org
SUMMARY:Moving Forward After Loss: Spousal/Bereavement Group Spring Session
DESCRIPTION:A closed\, six-week therapeutic bereavement group for spouses or partners of people who have died from ALS within the past six to nine months. \nThis group provides support\, validation\, and education in a supportive setting to those who are grieving the loss of their loved one. \nSpring Session- April 11- May 16\, 2024 \nVisit our Calendar of Events for upcoming dates. \nTime: 6 – 7:30 p.m. C.S.T\n\nFacilitator: Easton Stevenson\, LCSW\n \nRSVP: Please register here. This group is invite only.
URL:https://es.lesturnerals.org/event/moving-forward-after-loss-spousal-bereavement-group-spring-session/
END:VEVENT
BEGIN:VEVENT
DTSTART;TZID=UTC:20230114T103000
DTEND;TZID=UTC:20230114T120000
DTSTAMP:20260421T111101
CREATED:20171215T212728Z
LAST-MODIFIED:20240110T191029Z
UID:4481-1673692200-1673697600@es.lesturnerals.org
SUMMARY:Navigating ALS Together Support Group
DESCRIPTION:Meets the Second Saturday of each month from 10:30am – 12:00 pm \nFacilitator(s): Karen Raley Steffens\, RN\, CHPN\, CCM \nRSVP: Please email us at supportgroup@es.lesturnerals.org to RSVP \n*Meetings will be held over Zoom and a Zoom invitation will be sent via email once you register for the group.*
URL:https://es.lesturnerals.org/event/navigating-als-together/
END:VEVENT
BEGIN:VEVENT
DTSTART;TZID=America/Chicago:20240413T180000
DTEND;TZID=America/Chicago:20240413T230000
DTSTAMP:20260421T111101
CREATED:20231207T194318Z
LAST-MODIFIED:20231207T194318Z
UID:19254-1713031200-1713049200@es.lesturnerals.org
SUMMARY:Hope Through Caring Gala 2024
DESCRIPTION:This year\, as for the past 35 years\, the Les Turner ALS Foundation will bring together Chicago’s top minds in ALS research and care\, business\, academics\, philanthropy\, and most importantly\, people living with ALS\, for one of the city’s most elegant and most prestigious black-tie optional events of the year: the 36th Annual Hope Through Caring Gala\, at the Radisson Blu Aqua Hotel on Saturday\, April 13\, 2024. There will also be a virtual option available with a link to view the program. \n  \n 
URL:https://es.lesturnerals.org/event/hope-through-caring-gala-2024/
LOCATION:Radisson Blu Aqua Hotel\, 221 N Columbus Drive\, Chicago\, IL\, 60601\, United States
END:VEVENT
BEGIN:VEVENT
DTSTART;TZID=UTC:20231120T140000
DTEND;TZID=UTC:20231120T150000
DTSTAMP:20260421T111101
CREATED:20231024T194007Z
LAST-MODIFIED:20240110T191530Z
UID:19125-1700488800-1700492400@es.lesturnerals.org
SUMMARY:Navigating ALS Together Support Group
DESCRIPTION:Meets the Third Monday of each month from 2-3:15 p.m. \nFacilitator: Anne Lidsky\, PhD \nRSVP: Please email us at supportgroup@es.lesturnerals.org to RSVP \n*Meetings will be held over Zoom and a Zoom invitation will be sent via email once you register for the group.*
URL:https://es.lesturnerals.org/event/navigatingalstogether/
END:VEVENT
BEGIN:VEVENT
DTSTART;TZID=America/Chicago:20240115T153000
DTEND;TZID=America/Chicago:20240115T163000
DTSTAMP:20260421T111101
CREATED:20240110T192825Z
LAST-MODIFIED:20240110T193410Z
UID:19480-1705332600-1705336200@es.lesturnerals.org
SUMMARY:ALS Caregivers Support Group
DESCRIPTION:The Caregivers Only group offers a time to talk about all the issues caregivers face in a non-judgmental\, accepting atmosphere without their loved one\, who is living with ALS\, being present. Caregivers share a common experience; life has become so tumultuous that they often feel exhausted and overwhelmed\, hungry for emotional comfort. Together\, with the guidance and encouragement of a devoted facilitator\, caregivers can find the strength to persevere. And\, by feeling heard and understood\, caregivers become more equipped to face another day with new coping strategies. \nTime: Meets the Third Monday of each month from 3:30 – 4:30 p.m. \nFacilitator: Anne Lidsky\, PhD \nRSVP: Please RSVP here. \n*Meetings will be held over Zoom and a Zoom invitation will be sent via email once you register for the group.*
URL:https://es.lesturnerals.org/event/caregivers-only-support-group-thursday-2/
END:VEVENT
BEGIN:VEVENT
DTSTART;TZID=America/Chicago:20240118T150000
DTEND;TZID=America/Chicago:20240118T160000
DTSTAMP:20260421T111101
CREATED:20240110T193053Z
LAST-MODIFIED:20240110T193254Z
UID:19482-1705590000-1705593600@es.lesturnerals.org
SUMMARY:ALS Caregivers Support Group
DESCRIPTION:The Caregivers Only group offers a time to talk about all the issues caregivers face in a non-judgmental\, accepting atmosphere without their loved one\, who is living with ALS\, being present. Caregivers share a common experience; life has become so tumultuous that they often feel exhausted and overwhelmed\, hungry for emotional comfort. Together\, with the guidance and encouragement of a devoted facilitator\, caregivers can find the strength to persevere. And\, by feeling heard and understood\, caregivers become more equipped to face another day with new coping strategies. \nTime: Meets the Third Thursday of each month from 3:00 – 4:00 p.m. \nFacilitator: Anne Lidsky\, PhD \nRSVP: Please RSVP here. \n*Meetings will be held over Zoom and a Zoom invitation will be sent via email once you register for the group.*
URL:https://es.lesturnerals.org/event/caregiversupport-group-2-3/
END:VEVENT
BEGIN:VEVENT
DTSTART;TZID=America/Chicago:20240411T180000
DTEND;TZID=America/Chicago:20240411T193000
DTSTAMP:20260421T111101
CREATED:20240117T220309Z
LAST-MODIFIED:20240117T221300Z
UID:19593-1712858400-1712863800@es.lesturnerals.org
SUMMARY:Moving Forward After Loss: Spousal/Bereavement Group Spring Session
DESCRIPTION:A closed\, six-week therapeutic bereavement group for spouses or partners of people who have died from ALS within the past six to nine months. \nThis group provides support\, validation\, and education in a supportive setting to those who are grieving the loss of their loved one. \nSpring Session- April 11- May 16\, 2024 \nVisit our Calendar of Events for upcoming dates. \nTime: 6 – 7:30 p.m. C.S.T\n\nFacilitator: Easton Stevenson\, LCSW\n \nRSVP: Please register here. This group is invite only.
URL:https://es.lesturnerals.org/event/moving-forward-after-loss-spousal-bereavement-group-spring-session/
END:VEVENT
BEGIN:VEVENT
DTSTART;TZID=America/Chicago:20240122T180000
DTEND;TZID=America/Chicago:20240122T193000
DTSTAMP:20260421T111101
CREATED:20240110T194328Z
LAST-MODIFIED:20240110T194515Z
UID:19488-1705946400-1705951800@es.lesturnerals.org
SUMMARY:Living After Loss (Bereavement Group)
DESCRIPTION:An open\, supportive monthly bereavement group for anyone (family\, friend\, etc.) who has lost a loved one to ALS within the past year. This group will provide a place to connect with others who have experienced the loss of a loved one to ALS; stories will be told\, feelings will be explored\, and information will be shared about how to remain connected to the memory of a loved one. \nDate: Fourth Monday \nTime: 6pm – 7:30pm \nFacilitator(s): Easton Stevenson\, LCSW\n \nRSVP: Please RSVP here. \n*Meetings will be held over Zoom and a Zoom invitation will be sent via email once you register for the group.* \n 
URL:https://es.lesturnerals.org/event/living-after-loss-bereavement-group-2-2/
END:VEVENT
BEGIN:VEVENT
DTSTART;TZID=America/Chicago:20240411T180000
DTEND;TZID=America/Chicago:20240411T193000
DTSTAMP:20260421T111101
CREATED:20240117T220309Z
LAST-MODIFIED:20240117T221300Z
UID:19593-1712858400-1712863800@es.lesturnerals.org
SUMMARY:Moving Forward After Loss: Spousal/Bereavement Group Spring Session
DESCRIPTION:A closed\, six-week therapeutic bereavement group for spouses or partners of people who have died from ALS within the past six to nine months. \nThis group provides support\, validation\, and education in a supportive setting to those who are grieving the loss of their loved one. \nSpring Session- April 11- May 16\, 2024 \nVisit our Calendar of Events for upcoming dates. \nTime: 6 – 7:30 p.m. C.S.T\n\nFacilitator: Easton Stevenson\, LCSW\n \nRSVP: Please register here. This group is invite only.
URL:https://es.lesturnerals.org/event/moving-forward-after-loss-spousal-bereavement-group-spring-session/
END:VEVENT
BEGIN:VEVENT
DTSTART;TZID=UTC:20240127T103000
DTEND;TZID=UTC:20240127T113000
DTSTAMP:20260421T111101
CREATED:20240110T192230Z
LAST-MODIFIED:20240110T192232Z
UID:19476-1706351400-1706355000@es.lesturnerals.org
SUMMARY:Navigating ALS Together Support Group
DESCRIPTION:Meets the Fourth Saturday of each month from 10:30 am-11:30 a.m. \nFacilitator(s): Rochelle Walwer\, LCSW \nRSVP: Click here to register \n*Meetings will be held over Zoom and a Zoom invitation will be sent via email once you register for the group.*
URL:https://es.lesturnerals.org/event/navigatingalstogether-2/
END:VEVENT
BEGIN:VEVENT
DTSTART;TZID=America/Chicago:20240411T180000
DTEND;TZID=America/Chicago:20240411T193000
DTSTAMP:20260421T111101
CREATED:20240117T220309Z
LAST-MODIFIED:20240117T221300Z
UID:19593-1712858400-1712863800@es.lesturnerals.org
SUMMARY:Moving Forward After Loss: Spousal/Bereavement Group Spring Session
DESCRIPTION:A closed\, six-week therapeutic bereavement group for spouses or partners of people who have died from ALS within the past six to nine months. \nThis group provides support\, validation\, and education in a supportive setting to those who are grieving the loss of their loved one. \nSpring Session- April 11- May 16\, 2024 \nVisit our Calendar of Events for upcoming dates. \nTime: 6 – 7:30 p.m. C.S.T\n\nFacilitator: Easton Stevenson\, LCSW\n \nRSVP: Please register here. This group is invite only.
URL:https://es.lesturnerals.org/event/moving-forward-after-loss-spousal-bereavement-group-spring-session/
END:VEVENT
BEGIN:VEVENT
DTSTART;TZID=America/Chicago:20240411T180000
DTEND;TZID=America/Chicago:20240411T193000
DTSTAMP:20260421T111101
CREATED:20240117T220309Z
LAST-MODIFIED:20240117T221300Z
UID:19593-1712858400-1712863800@es.lesturnerals.org
SUMMARY:Moving Forward After Loss: Spousal/Bereavement Group Spring Session
DESCRIPTION:A closed\, six-week therapeutic bereavement group for spouses or partners of people who have died from ALS within the past six to nine months. \nThis group provides support\, validation\, and education in a supportive setting to those who are grieving the loss of their loved one. \nSpring Session- April 11- May 16\, 2024 \nVisit our Calendar of Events for upcoming dates. \nTime: 6 – 7:30 p.m. C.S.T\n\nFacilitator: Easton Stevenson\, LCSW\n \nRSVP: Please register here. This group is invite only.
URL:https://es.lesturnerals.org/event/moving-forward-after-loss-spousal-bereavement-group-spring-session/
END:VEVENT
END:VCALENDAR