BEGIN:VCALENDAR
VERSION:2.0
PRODID:-//Les Turner ALS Foundation - ECPv6.15.20//NONSGML v1.0//EN
CALSCALE:GREGORIAN
METHOD:PUBLISH
X-ORIGINAL-URL:https://es.lesturnerals.org
X-WR-CALDESC:Eventos para Les Turner ALS Foundation
REFRESH-INTERVAL;VALUE=DURATION:PT1H
X-Robots-Tag:noindex
X-PUBLISHED-TTL:PT1H
BEGIN:VTIMEZONE
TZID:America/Chicago
BEGIN:DAYLIGHT
TZOFFSETFROM:-0600
TZOFFSETTO:-0500
TZNAME:CDT
DTSTART:20220313T080000
END:DAYLIGHT
BEGIN:STANDARD
TZOFFSETFROM:-0500
TZOFFSETTO:-0600
TZNAME:CST
DTSTART:20221106T070000
END:STANDARD
BEGIN:DAYLIGHT
TZOFFSETFROM:-0600
TZOFFSETTO:-0500
TZNAME:CDT
DTSTART:20230312T080000
END:DAYLIGHT
BEGIN:STANDARD
TZOFFSETFROM:-0500
TZOFFSETTO:-0600
TZNAME:CST
DTSTART:20231105T070000
END:STANDARD
BEGIN:DAYLIGHT
TZOFFSETFROM:-0600
TZOFFSETTO:-0500
TZNAME:CDT
DTSTART:20240310T080000
END:DAYLIGHT
BEGIN:STANDARD
TZOFFSETFROM:-0500
TZOFFSETTO:-0600
TZNAME:CST
DTSTART:20241103T070000
END:STANDARD
END:VTIMEZONE
BEGIN:VEVENT
DTSTART;TZID=America/Chicago:20231104T190000
DTEND;TZID=America/Chicago:20231104T230000
DTSTAMP:20260421T110634
CREATED:20230622T191831Z
LAST-MODIFIED:20231102T172933Z
UID:18103-1699124400-1699138800@es.lesturnerals.org
SUMMARY:All in For ALS Casino Night
DESCRIPTION:Our signature casino night event features exciting games like Blackjack\, Roulette and Craps all live in person at the East Bank Club. Guests can try their luck at the tables\, bid on auction items\, enjoy tasty appetizers\, and snap pictures in the photo booth\, all while joining other young professionals to show their support for the Les Turner ALS Foundation\, the leader in comprehensive ALS care in Chicagoland. \nMany Young Professional Group (YPG) members and event attendees have had this devastating disease touch their lives and take their loved one; and yet they still come together to help ensure that one day there is a cure for ALS. This is our chance to give back to them by helping fund vital ALS care and research. \nYour generosity helps ensure that people living with ALS live their lives with both quality and dignity. 100% of the event’s proceeds will benefit the Foundation. \n  \n 
URL:https://es.lesturnerals.org/event/all-in-for-als-casino-night-2/
END:VEVENT
END:VCALENDAR