BEGIN:VCALENDAR
VERSION:2.0
PRODID:-//Les Turner ALS Foundation - ECPv6.15.20//NONSGML v1.0//EN
CALSCALE:GREGORIAN
METHOD:PUBLISH
X-WR-CALNAME:Les Turner ALS Foundation
X-ORIGINAL-URL:https://es.lesturnerals.org
X-WR-CALDESC:Eventos para Les Turner ALS Foundation
REFRESH-INTERVAL;VALUE=DURATION:PT1H
X-Robots-Tag:noindex
X-PUBLISHED-TTL:PT1H
BEGIN:VTIMEZONE
TZID:America/Chicago
BEGIN:DAYLIGHT
TZOFFSETFROM:-0600
TZOFFSETTO:-0500
TZNAME:CDT
DTSTART:20220313T080000
END:DAYLIGHT
BEGIN:STANDARD
TZOFFSETFROM:-0500
TZOFFSETTO:-0600
TZNAME:CST
DTSTART:20221106T070000
END:STANDARD
BEGIN:DAYLIGHT
TZOFFSETFROM:-0600
TZOFFSETTO:-0500
TZNAME:CDT
DTSTART:20230312T080000
END:DAYLIGHT
BEGIN:STANDARD
TZOFFSETFROM:-0500
TZOFFSETTO:-0600
TZNAME:CST
DTSTART:20231105T070000
END:STANDARD
BEGIN:DAYLIGHT
TZOFFSETFROM:-0600
TZOFFSETTO:-0500
TZNAME:CDT
DTSTART:20240310T080000
END:DAYLIGHT
BEGIN:STANDARD
TZOFFSETFROM:-0500
TZOFFSETTO:-0600
TZNAME:CST
DTSTART:20241103T070000
END:STANDARD
END:VTIMEZONE
BEGIN:VEVENT
DTSTART;TZID=America/Chicago:20230914T120000
DTEND;TZID=America/Chicago:20230914T130000
DTSTAMP:20260421T124101
CREATED:20230824T143533Z
LAST-MODIFIED:20230824T143605Z
UID:18607-1694692800-1694696400@es.lesturnerals.org
SUMMARY:September ALS Learning Series: Nutrition: Journey from Beginning to End
DESCRIPTION:Join us for our September ALS Learning series with Dr. Edward Kasarskis where he will discuss the foundations for nutrition and hydration\, constipation\, and bowel management in ALS.  With a Q&A to follow. \nThe Les Turner ALS Foundation is proud to offer this webinar at no cost to the ALS community. Thank you to the Gilbert & Jacqueline Fern Foundation and Mitsubishi Tanabe Pharma America for sponsoring this webinar. \nRegister today
URL:https://es.lesturnerals.org/event/september-als-learning-series-nutrition-journey-from-beginning-to-end/
END:VEVENT
END:VCALENDAR