BEGIN:VCALENDAR
VERSION:2.0
PRODID:-//Les Turner ALS Foundation - ECPv6.15.20//NONSGML v1.0//EN
CALSCALE:GREGORIAN
METHOD:PUBLISH
X-WR-CALNAME:Les Turner ALS Foundation
X-ORIGINAL-URL:https://es.lesturnerals.org
X-WR-CALDESC:Eventos para Les Turner ALS Foundation
REFRESH-INTERVAL;VALUE=DURATION:PT1H
X-Robots-Tag:noindex
X-PUBLISHED-TTL:PT1H
BEGIN:VTIMEZONE
TZID:America/Chicago
BEGIN:DAYLIGHT
TZOFFSETFROM:-0600
TZOFFSETTO:-0500
TZNAME:CDT
DTSTART:20220313T080000
END:DAYLIGHT
BEGIN:STANDARD
TZOFFSETFROM:-0500
TZOFFSETTO:-0600
TZNAME:CST
DTSTART:20221106T070000
END:STANDARD
BEGIN:DAYLIGHT
TZOFFSETFROM:-0600
TZOFFSETTO:-0500
TZNAME:CDT
DTSTART:20230312T080000
END:DAYLIGHT
BEGIN:STANDARD
TZOFFSETFROM:-0500
TZOFFSETTO:-0600
TZNAME:CST
DTSTART:20231105T070000
END:STANDARD
BEGIN:DAYLIGHT
TZOFFSETFROM:-0600
TZOFFSETTO:-0500
TZNAME:CDT
DTSTART:20240310T080000
END:DAYLIGHT
BEGIN:STANDARD
TZOFFSETFROM:-0500
TZOFFSETTO:-0600
TZNAME:CST
DTSTART:20241103T070000
END:STANDARD
END:VTIMEZONE
BEGIN:VEVENT
DTSTART;TZID=America/Chicago:20230709T130000
DTEND;TZID=America/Chicago:20230709T170000
DTSTAMP:20260421T154858
CREATED:20230626T192843Z
LAST-MODIFIED:20230626T192843Z
UID:18131-1688907600-1688922000@es.lesturnerals.org
SUMMARY:All in for ALS YPG Bar Crawl
DESCRIPTION:Hosted by the Young ProfessionALS Group of the Les Turner ALS Foundation\nJoin the Young ProfessionALS Group for their summer bar crawl on Sunday\, July 9th from 1:00 – 5:00 p.m. at the Pony Inn\, Cody’s Public House\, and Waterhouse in Roscoe Village. \nTickets include a YPG visor and discounts at participating bars. Spend the afternoon supporting the Les Turner ALS Foundation\, Chicagoland’s leader in comprehensive ALS care. \nRemember to get your ticket ahead of time to save your spot and some extra money! Pre-registration closes at 4 p.m. (CT) on Saturday\, July 8th. All proceeds from ticket sales go directly to support people living with ALS. \nMUST BE 21 OR OLDER WITH PROOF OF ID AT THE DOOR \nhttps://e.givesmart.com/events/xnM/
URL:https://es.lesturnerals.org/event/all-in-for-als-ypg-bar-crawl-2/
END:VEVENT
END:VCALENDAR