BEGIN:VCALENDAR
VERSION:2.0
PRODID:-//Les Turner ALS Foundation - ECPv6.15.20//NONSGML v1.0//EN
CALSCALE:GREGORIAN
METHOD:PUBLISH
X-ORIGINAL-URL:https://es.lesturnerals.org
X-WR-CALDESC:Eventos para Les Turner ALS Foundation
REFRESH-INTERVAL;VALUE=DURATION:PT1H
X-Robots-Tag:noindex
X-PUBLISHED-TTL:PT1H
BEGIN:VTIMEZONE
TZID:America/Chicago
BEGIN:DAYLIGHT
TZOFFSETFROM:-0600
TZOFFSETTO:-0500
TZNAME:CDT
DTSTART:20220313T080000
END:DAYLIGHT
BEGIN:STANDARD
TZOFFSETFROM:-0500
TZOFFSETTO:-0600
TZNAME:CST
DTSTART:20221106T070000
END:STANDARD
BEGIN:DAYLIGHT
TZOFFSETFROM:-0600
TZOFFSETTO:-0500
TZNAME:CDT
DTSTART:20230312T080000
END:DAYLIGHT
BEGIN:STANDARD
TZOFFSETFROM:-0500
TZOFFSETTO:-0600
TZNAME:CST
DTSTART:20231105T070000
END:STANDARD
BEGIN:DAYLIGHT
TZOFFSETFROM:-0600
TZOFFSETTO:-0500
TZNAME:CDT
DTSTART:20240310T080000
END:DAYLIGHT
BEGIN:STANDARD
TZOFFSETFROM:-0500
TZOFFSETTO:-0600
TZNAME:CST
DTSTART:20241103T070000
END:STANDARD
END:VTIMEZONE
BEGIN:VEVENT
DTSTART;TZID=America/Chicago:20230619T120000
DTEND;TZID=America/Chicago:20230619T130000
DTSTAMP:20260421T184938
CREATED:20230531T154907Z
LAST-MODIFIED:20230531T154907Z
UID:17885-1687176000-1687179600@es.lesturnerals.org
SUMMARY:June Learning Series
DESCRIPTION:Not everyone with ALS will need or choose to have a tracheostomy\, but there may come a time when it’s necessary for continued breathing. You may have respiratory weakness that can no longer be treated with a mask and non-invasive ventilation.    \nJoin Lisa Wolfe\, MD\, for a pulmonologist’s breakdown on respiratory management for those with increased ventilation needs. Community resources will be shared and there will be a Q&A after the presentation.   \nRegister today!    \nThe Les Turner ALS Foundation is proud to offer this webinar at no cost to the ALS community. Thank you to the Gilbert and Robin Fern Foundation and Mitsubishi Tanabe Pharma America for sponsoring this webinar.  
URL:https://es.lesturnerals.org/event/june-learning-series/
END:VEVENT
END:VCALENDAR