BEGIN:VCALENDAR
VERSION:2.0
PRODID:-//Les Turner ALS Foundation - ECPv6.15.20//NONSGML v1.0//EN
CALSCALE:GREGORIAN
METHOD:PUBLISH
X-ORIGINAL-URL:https://es.lesturnerals.org
X-WR-CALDESC:Eventos para Les Turner ALS Foundation
REFRESH-INTERVAL;VALUE=DURATION:PT1H
X-Robots-Tag:noindex
X-PUBLISHED-TTL:PT1H
BEGIN:VTIMEZONE
TZID:UTC
BEGIN:STANDARD
TZOFFSETFROM:+0000
TZOFFSETTO:+0000
TZNAME:UTC
DTSTART:20210101T000000
END:STANDARD
END:VTIMEZONE
BEGIN:VEVENT
DTSTART;TZID=UTC:20220917T103000
DTEND;TZID=UTC:20220917T123000
DTSTAMP:20260424T202419
CREATED:20180928T214752Z
LAST-MODIFIED:20220817T165503Z
UID:10431-1663410600-1663417800@es.lesturnerals.org
SUMMARY:Wheaton Support Group
DESCRIPTION:Meets the Fourth Saturday of each month from 10:30am-12:30pm \nThis meeting has been rescheduled due to the ALS Walk for Life on Saturday\, Sept. 24. \nFacilitator(s): Ileane Mindel\, RN\, Julie Stowell\, RN\, CHPN and Elsa Cherwak\, PT \nRSVP: Please email us at supportgroup@es.lesturnerals.org to RSVP \n*Meetings will be held over Zoom and a Zoom invitation will be sent via email once you register for the group.*
URL:https://es.lesturnerals.org/event/wheaton-support-group-5-2022-09-24/
END:VEVENT
END:VCALENDAR