BEGIN:VCALENDAR
VERSION:2.0
PRODID:-//Les Turner ALS Foundation - ECPv6.15.20//NONSGML v1.0//EN
CALSCALE:GREGORIAN
METHOD:PUBLISH
X-WR-CALNAME:Les Turner ALS Foundation
X-ORIGINAL-URL:https://es.lesturnerals.org
X-WR-CALDESC:Eventos para Les Turner ALS Foundation
REFRESH-INTERVAL;VALUE=DURATION:PT1H
X-Robots-Tag:noindex
X-PUBLISHED-TTL:PT1H
BEGIN:VTIMEZONE
TZID:America/Chicago
BEGIN:DAYLIGHT
TZOFFSETFROM:-0600
TZOFFSETTO:-0500
TZNAME:CDT
DTSTART:20210314T080000
END:DAYLIGHT
BEGIN:STANDARD
TZOFFSETFROM:-0500
TZOFFSETTO:-0600
TZNAME:CST
DTSTART:20211107T070000
END:STANDARD
BEGIN:DAYLIGHT
TZOFFSETFROM:-0600
TZOFFSETTO:-0500
TZNAME:CDT
DTSTART:20220313T080000
END:DAYLIGHT
BEGIN:STANDARD
TZOFFSETFROM:-0500
TZOFFSETTO:-0600
TZNAME:CST
DTSTART:20221106T070000
END:STANDARD
BEGIN:DAYLIGHT
TZOFFSETFROM:-0600
TZOFFSETTO:-0500
TZNAME:CDT
DTSTART:20230312T080000
END:DAYLIGHT
BEGIN:STANDARD
TZOFFSETFROM:-0500
TZOFFSETTO:-0600
TZNAME:CST
DTSTART:20231105T070000
END:STANDARD
END:VTIMEZONE
BEGIN:VEVENT
DTSTART;TZID=America/Chicago:20220811T090000
DTEND;TZID=America/Chicago:20220811T200000
DTSTAMP:20260424T184135
CREATED:20220318T195816Z
LAST-MODIFIED:20220318T195816Z
UID:12919-1660208400-1660248000@es.lesturnerals.org
SUMMARY:2022 Matt Creen Golf Invitational
DESCRIPTION:9th Annual\nMatt Creen Golf Invitational\nThursday\, August 11\, 2022 \nOdyssey Country Club\n19110 S Ridgeland Ave\nTinley Park\, IL 60477 \nRegistration and Driving Range: 9 am\nShotgun Start: 10:45 am\nOpen Bar: 4-8 pm\nDinner: 5:30 pm\nSilent Auction and Raffle Throughout Dinner \nMatt Creen\, General Counsel for the Currie Motors Group for 20 years\, was diagnosed with ALS in November of 2013. This is now our Ninth Annual Matt Creen Invitational for the benefit of the Les Turner ALS Foundation. With the help of his strong faith in God\, and the support of his family and friends\, Matt has maintained a positive outlook over the years since his diagnosis and has been an inspiration to all of us. \nMatt was both honored and humbled to receive the Hope Through Caring Award at the 2020 Hope Through Caring Gala hosted by the Les Turner ALS Foundation. Matt received this award in part as a result of the generosity of those who have attended this event over the years\, which has now raised over a half-million dollars for the Foundation. These dollars help the Foundation’s mission to create a world without ALS. On behalf of Matt\, the Creen family and the Les Turner ALS Foundation\, we look forward to another successful day for the Foundation with your continued generosity and support. \nEveryone\, whether golfing or not\, is invited to join Matt\, his family\, friends and colleagues for a fun-filled and inspirational day\, with plenty of great food\, cold drinks and camaraderie. \nWe look forward to seeing you! You can donate and purchase tickets here. \nThank you\,\nMark Vilimek\, Mike Payne\, Jim Bolek\, Tim Holder\, Michael Bruno\, Robert Alfaro and The Creen Family \n  \nIf mailing in a paper registration/donation form and paying by check\, please specify the event name and registration type on the memo line (i.e. Matt Creen Golfer Registration). Checks can be mailed to: \nLes Turner ALS Foundation\n5550 W Touhy Avenue\, Suite 302\nSkokie\, IL 60077\nReference: Matt Creen Golf Invitational
URL:https://es.lesturnerals.org/event/2022-matt-creen-golf-invitational/
LOCATION:The Odyssey\, 19110 S Ridgeland Ave\, Tinley Park \, IL\, 60477\, United States
END:VEVENT
END:VCALENDAR