BEGIN:VCALENDAR
VERSION:2.0
PRODID:-//Les Turner ALS Foundation - ECPv6.15.20//NONSGML v1.0//EN
CALSCALE:GREGORIAN
METHOD:PUBLISH
X-ORIGINAL-URL:https://es.lesturnerals.org
X-WR-CALDESC:Eventos para Les Turner ALS Foundation
REFRESH-INTERVAL;VALUE=DURATION:PT1H
X-Robots-Tag:noindex
X-PUBLISHED-TTL:PT1H
BEGIN:VTIMEZONE
TZID:America/Chicago
BEGIN:DAYLIGHT
TZOFFSETFROM:-0600
TZOFFSETTO:-0500
TZNAME:CDT
DTSTART:20200308T080000
END:DAYLIGHT
BEGIN:STANDARD
TZOFFSETFROM:-0500
TZOFFSETTO:-0600
TZNAME:CST
DTSTART:20201101T070000
END:STANDARD
BEGIN:DAYLIGHT
TZOFFSETFROM:-0600
TZOFFSETTO:-0500
TZNAME:CDT
DTSTART:20210314T080000
END:DAYLIGHT
BEGIN:STANDARD
TZOFFSETFROM:-0500
TZOFFSETTO:-0600
TZNAME:CST
DTSTART:20211107T070000
END:STANDARD
BEGIN:DAYLIGHT
TZOFFSETFROM:-0600
TZOFFSETTO:-0500
TZNAME:CDT
DTSTART:20220313T080000
END:DAYLIGHT
BEGIN:STANDARD
TZOFFSETFROM:-0500
TZOFFSETTO:-0600
TZNAME:CST
DTSTART:20221106T070000
END:STANDARD
END:VTIMEZONE
BEGIN:VEVENT
DTSTART;VALUE=DATE:20211126
DTEND;VALUE=DATE:20211129
DTSTAMP:20260421T234625
CREATED:20211115T163317Z
LAST-MODIFIED:20211118T230041Z
UID:11934-1637884800-1638143999@es.lesturnerals.org
SUMMARY:World's Longest Turkey Trot
DESCRIPTION:Years ago\, ultra marathoner Alfredo Perro said to his friend Scott Kummer that he wanted to run one last 100-mile race before the end of the year. Scott and Alfredo decided to simply run from the Chicago «Bean» to the city of Milwaukee for a roughly 100-mile turkey trot on Black Friday. They called it the “World’s Longest Turkey Trot.” \nSoon after\, Alfredo was diagnosed with ALS and lost his battle with the disease in November of 2015. Every year\, runners have carried on Alfredo’s tradition in his honor. \nThis year\, the Turkey Trot will be both virtual and in-person. You can sign-up or donate here! \nFrom November 26-28\, participants will run as many miles as possible while raising awareness and money for ALS.
URL:https://es.lesturnerals.org/event/worlds-longest-turkey-trot/
END:VEVENT
END:VCALENDAR