BEGIN:VCALENDAR
VERSION:2.0
PRODID:-//Les Turner ALS Foundation - ECPv6.15.20//NONSGML v1.0//EN
CALSCALE:GREGORIAN
METHOD:PUBLISH
X-WR-CALNAME:Les Turner ALS Foundation
X-ORIGINAL-URL:https://es.lesturnerals.org
X-WR-CALDESC:Eventos para Les Turner ALS Foundation
REFRESH-INTERVAL;VALUE=DURATION:PT1H
X-Robots-Tag:noindex
X-PUBLISHED-TTL:PT1H
BEGIN:VTIMEZONE
TZID:UTC
BEGIN:STANDARD
TZOFFSETFROM:+0000
TZOFFSETTO:+0000
TZNAME:UTC
DTSTART:20200101T000000
END:STANDARD
END:VTIMEZONE
BEGIN:VEVENT
DTSTART;TZID=UTC:20211120T103000
DTEND;TZID=UTC:20211120T103000
DTSTAMP:20260421T234544
CREATED:20180928T214752Z
LAST-MODIFIED:20211025T150538Z
UID:10421-1637404200-1637404200@es.lesturnerals.org
SUMMARY:Wheaton Support Group *New Date: November 20\, 2021*
DESCRIPTION:Meets the Fourth Saturday of each month from 10:30am-12:30pm \nFacilitator(s): Ileane Mindel\, RN\, Julie Stowell\, RN\, CHPN and Elsa Cherwak\, PT \nRSVP: Please email us at supportgroup@es.lesturnerals.org to RSVP
URL:https://es.lesturnerals.org/event/wheaton-support-group-5-2021-11-27/
LOCATION:Marianjoy Rehab Center\, 26 W 171 Roosevelt Road\, Wheaton\, IL\, 60187\, United States
END:VEVENT
END:VCALENDAR