BEGIN:VCALENDAR
VERSION:2.0
PRODID:-//Les Turner ALS Foundation - ECPv6.15.20//NONSGML v1.0//EN
CALSCALE:GREGORIAN
METHOD:PUBLISH
X-ORIGINAL-URL:https://es.lesturnerals.org
X-WR-CALDESC:Eventos para Les Turner ALS Foundation
REFRESH-INTERVAL;VALUE=DURATION:PT1H
X-Robots-Tag:noindex
X-PUBLISHED-TTL:PT1H
BEGIN:VTIMEZONE
TZID:America/Chicago
BEGIN:DAYLIGHT
TZOFFSETFROM:-0600
TZOFFSETTO:-0500
TZNAME:CDT
DTSTART:20200308T080000
END:DAYLIGHT
BEGIN:STANDARD
TZOFFSETFROM:-0500
TZOFFSETTO:-0600
TZNAME:CST
DTSTART:20201101T070000
END:STANDARD
BEGIN:DAYLIGHT
TZOFFSETFROM:-0600
TZOFFSETTO:-0500
TZNAME:CDT
DTSTART:20210314T080000
END:DAYLIGHT
BEGIN:STANDARD
TZOFFSETFROM:-0500
TZOFFSETTO:-0600
TZNAME:CST
DTSTART:20211107T070000
END:STANDARD
BEGIN:DAYLIGHT
TZOFFSETFROM:-0600
TZOFFSETTO:-0500
TZNAME:CDT
DTSTART:20220313T080000
END:DAYLIGHT
BEGIN:STANDARD
TZOFFSETFROM:-0500
TZOFFSETTO:-0600
TZNAME:CST
DTSTART:20221106T070000
END:STANDARD
END:VTIMEZONE
BEGIN:VEVENT
DTSTART;TZID=America/Chicago:20211111T120000
DTEND;TZID=America/Chicago:20211111T130000
DTSTAMP:20260421T234622
CREATED:20211012T133447Z
LAST-MODIFIED:20211012T133447Z
UID:11550-1636632000-1636635600@es.lesturnerals.org
SUMMARY:ALS Learning Series: Hospice & Palliative Care for People with ALS
DESCRIPTION:About the Program: \nAlthough we know that ALS is currently an incurable progressive neurodegenerative disease\, it remains difficult for patients\, families\, and healthcare professionals to have discussions about the progression of this serious illness and to plan for the end of life. This is most often due to the overarching apprehension that clinicians\, families and patients have regarding how to talk about it\, what to say and most importantly\, when to say it. This webinar will cover how to talk about end of life\, what to say\, and when to say it. We’ll discuss the differences between Palliative Care and Hospice Care\, as well as their benefits\, services offered\, when to seek out this care\, and what you need to know before signing-up for hospice services. \nAbout the Speaker: \nMartha L. Twaddle\, MD\, FACP\, FAAHPM\, HMDC\, is the Waud Family Medical Director for Palliative Medicine & Supportive Care at Northwestern Medicine. She has 30-plus years of clinical expertise and practice working with and supporting individuals and families with serious illness at the end of life. \nRegister Here!
URL:https://es.lesturnerals.org/event/als-learning-series-hospice-palliative-care-for-people-with-als/
END:VEVENT
END:VCALENDAR