BEGIN:VCALENDAR
VERSION:2.0
PRODID:-//Les Turner ALS Foundation - ECPv6.15.20//NONSGML v1.0//EN
CALSCALE:GREGORIAN
METHOD:PUBLISH
X-WR-CALNAME:Les Turner ALS Foundation
X-ORIGINAL-URL:https://es.lesturnerals.org
X-WR-CALDESC:Eventos para Les Turner ALS Foundation
REFRESH-INTERVAL;VALUE=DURATION:PT1H
X-Robots-Tag:noindex
X-PUBLISHED-TTL:PT1H
BEGIN:VTIMEZONE
TZID:UTC
BEGIN:STANDARD
TZOFFSETFROM:+0000
TZOFFSETTO:+0000
TZNAME:UTC
DTSTART:20200101T000000
END:STANDARD
END:VTIMEZONE
BEGIN:VEVENT
DTSTART;TZID=UTC:20211101T090000
DTEND;TZID=UTC:20211101T160000
DTSTAMP:20260421T234543
CREATED:20210624T010717Z
LAST-MODIFIED:20211012T155347Z
UID:10939-1635757200-1635782400@es.lesturnerals.org
SUMMARY:11th Annual Les Turner Symposium on ALS
DESCRIPTION:Les Turner ALS Center at Northwestern Medicine\n11th Annual Les Turner Symposium on ALS\n\nMonday\, November 1\, 2021\n9am – 4pm\nHeld Virtually\nWe’re excited to host the 11th Annual Les Turner Symposium on ALS\, which this year will be in a virtual format\, on Monday\, November 1. Like in previous years\, we are again welcoming the brightest minds in the ALS field to share the latest information and advancements in research and clinical care. \nThe virtual Symposium offers you the unique opportunity to hear from some of the foremost professionals in the ALS community\, locally\, nationally and internationally. \nREGISTER HERE \nTo learn more about the Symposium\, visit: lesturnerals.org/symposium \n 
URL:https://es.lesturnerals.org/event/11th-annual-les-turner-als-symposium/
END:VEVENT
END:VCALENDAR