BEGIN:VCALENDAR
VERSION:2.0
PRODID:-//Les Turner ALS Foundation - ECPv6.15.20//NONSGML v1.0//EN
CALSCALE:GREGORIAN
METHOD:PUBLISH
X-WR-CALNAME:Les Turner ALS Foundation
X-ORIGINAL-URL:https://es.lesturnerals.org
X-WR-CALDESC:Eventos para Les Turner ALS Foundation
REFRESH-INTERVAL;VALUE=DURATION:PT1H
X-Robots-Tag:noindex
X-PUBLISHED-TTL:PT1H
BEGIN:VTIMEZONE
TZID:America/Chicago
BEGIN:DAYLIGHT
TZOFFSETFROM:-0600
TZOFFSETTO:-0500
TZNAME:CDT
DTSTART:20200308T080000
END:DAYLIGHT
BEGIN:STANDARD
TZOFFSETFROM:-0500
TZOFFSETTO:-0600
TZNAME:CST
DTSTART:20201101T070000
END:STANDARD
BEGIN:DAYLIGHT
TZOFFSETFROM:-0600
TZOFFSETTO:-0500
TZNAME:CDT
DTSTART:20210314T080000
END:DAYLIGHT
BEGIN:STANDARD
TZOFFSETFROM:-0500
TZOFFSETTO:-0600
TZNAME:CST
DTSTART:20211107T070000
END:STANDARD
BEGIN:DAYLIGHT
TZOFFSETFROM:-0600
TZOFFSETTO:-0500
TZNAME:CDT
DTSTART:20220313T080000
END:DAYLIGHT
BEGIN:STANDARD
TZOFFSETFROM:-0500
TZOFFSETTO:-0600
TZNAME:CST
DTSTART:20221106T070000
END:STANDARD
END:VTIMEZONE
BEGIN:VEVENT
DTSTART;TZID=America/Chicago:20210930T120000
DTEND;TZID=America/Chicago:20210930T131500
DTSTAMP:20260421T201509
CREATED:20210921T192622Z
LAST-MODIFIED:20210922T143502Z
UID:11423-1633003200-1633007700@es.lesturnerals.org
SUMMARY:ALS Learning Series: Designing a Toolbox for Continuous Communication with Your Existing Technology
DESCRIPTION:ALS Learning Series: Designing a Toolbox for Continuous Communication with Your Existing Technology\nFeaturing Janet Bischof-Rosario\, Allied Health Supervisor and Occupational Therapist in the Technology Center at the Shirley Ryan AbilityLab and AnneMarie Doyle\, Senior Speech-Language Pathologist at Shirley Ryan AbilityLab\nThursday\, September 30 at 12 p.m. CT\n  \nAs ALS can affect speech and the ability to handle standard communication devices\, this webinar will identify solutions for continuing to use smart phones\, tablets\, and computers. \nThis course will focus on making communication as easy as possible throughout this difficult journey\, using technology and collaboration with each person’s team including their family\, caregivers\, therapists\, physicians\, and vendors. \nRegister and learn more here \n 
URL:https://es.lesturnerals.org/event/designing-a-toolbox-for-continuous-communication-with-your-existing-technology/
END:VEVENT
END:VCALENDAR