BEGIN:VCALENDAR
VERSION:2.0
PRODID:-//Les Turner ALS Foundation - ECPv6.15.20//NONSGML v1.0//EN
CALSCALE:GREGORIAN
METHOD:PUBLISH
X-ORIGINAL-URL:https://es.lesturnerals.org
X-WR-CALDESC:Eventos para Les Turner ALS Foundation
REFRESH-INTERVAL;VALUE=DURATION:PT1H
X-Robots-Tag:noindex
X-PUBLISHED-TTL:PT1H
BEGIN:VTIMEZONE
TZID:UTC
BEGIN:STANDARD
TZOFFSETFROM:+0000
TZOFFSETTO:+0000
TZNAME:UTC
DTSTART:20200101T000000
END:STANDARD
END:VTIMEZONE
BEGIN:VEVENT
DTSTART;TZID=UTC:20210826T120000
DTEND;TZID=UTC:20210826T130000
DTSTAMP:20260421T184909
CREATED:20210813T221846Z
LAST-MODIFIED:20210816T202555Z
UID:11152-1629979200-1629982800@es.lesturnerals.org
SUMMARY:ALS Learning Series: Managing Speech & Swallowing Problems in ALS
DESCRIPTION:ALS Learning Series: Managing Speech & Swallowing Problems in ALS\nFeaturing Kristin Larsen\, MA\, CCC-SLP\, Speech and Language Pathologist at Northwestern Medicine\nThursday\, August 26 at 12 p.m. CDT\nFor many living with ALS\, speech and swallowing changes may be the first symptoms experienced and can impact many aspects of living with ALS. Join Kristin Larsen\, MA\, CCC-SLP\, Speech and Language Pathologist at Northwestern Medicine\, who will present at our August ALS Learning Series program. \nThis webinar will discuss various ways ALS can impact your speech and swallowing. We will focus on early identification of symptoms\, provide helpful tips including tongue and respiratory exercises along with voice banking and communication aid options. Knowing what to expect as your symptoms change can help you make well-informed and timely decisions to communicate and swallow safely for as long as possible. \nStay tuned for more details on how to register!
URL:https://es.lesturnerals.org/event/als-learning-series-managing-speech-swallowing-problems-in-als/
END:VEVENT
END:VCALENDAR