BEGIN:VCALENDAR
VERSION:2.0
PRODID:-//Les Turner ALS Foundation - ECPv6.15.20//NONSGML v1.0//EN
CALSCALE:GREGORIAN
METHOD:PUBLISH
X-WR-CALNAME:Les Turner ALS Foundation
X-ORIGINAL-URL:https://es.lesturnerals.org
X-WR-CALDESC:Eventos para Les Turner ALS Foundation
REFRESH-INTERVAL;VALUE=DURATION:PT1H
X-Robots-Tag:noindex
X-PUBLISHED-TTL:PT1H
BEGIN:VTIMEZONE
TZID:UTC
BEGIN:STANDARD
TZOFFSETFROM:+0000
TZOFFSETTO:+0000
TZNAME:UTC
DTSTART:20200101T000000
END:STANDARD
END:VTIMEZONE
BEGIN:VEVENT
DTSTART;VALUE=DATE:20210220
DTEND;VALUE=DATE:20210222
DTSTAMP:20260424T052442
CREATED:20210112T010052Z
LAST-MODIFIED:20210208T200750Z
UID:9739-1613779200-1613951999@es.lesturnerals.org
SUMMARY:Chicago Virtual NEALS ALS Clinical Research Learning Institute
DESCRIPTION:Join our first-ever 2021 Chicago Virtual NEALS ALS Clinical Research Learning Institute (CRLI). This program will take place online on February 20-21. Patients\, caregivers\, and surviving family members are encouraged to apply. \nThe ALS CRLI is an annual two-day program dedicated to educating attendees on clinical research and therapy development and empowering this group to be advocates for ALS clinical research. Certification as an ALS Research Ambassador provides attendees with the opportunity to influence and improve the ALS research process. \n 
URL:https://es.lesturnerals.org/event/chicago-virtual-neals-als-clinical-research-learning-institute/
END:VEVENT
END:VCALENDAR