BEGIN:VCALENDAR
VERSION:2.0
PRODID:-//Les Turner ALS Foundation - ECPv6.15.20//NONSGML v1.0//EN
CALSCALE:GREGORIAN
METHOD:PUBLISH
X-ORIGINAL-URL:https://es.lesturnerals.org
X-WR-CALDESC:Eventos para Les Turner ALS Foundation
REFRESH-INTERVAL;VALUE=DURATION:PT1H
X-Robots-Tag:noindex
X-PUBLISHED-TTL:PT1H
BEGIN:VTIMEZONE
TZID:UTC
BEGIN:STANDARD
TZOFFSETFROM:+0000
TZOFFSETTO:+0000
TZNAME:UTC
DTSTART:20190101T000000
END:STANDARD
END:VTIMEZONE
BEGIN:VEVENT
DTSTART;TZID=UTC:20201113T190000
DTEND;TZID=UTC:20201113T230000
DTSTAMP:20260424T095717
CREATED:20200909T200606Z
LAST-MODIFIED:20201007T005127Z
UID:9121-1605294000-1605308400@es.lesturnerals.org
SUMMARY:All in for ALS Casino Virtual Night
DESCRIPTION:Friday\, November 13\, 2020
URL:https://es.lesturnerals.org/event/all-in-for-als-casino-night-2020/
END:VEVENT
END:VCALENDAR