BEGIN:VCALENDAR
VERSION:2.0
PRODID:-//Les Turner ALS Foundation - ECPv6.15.20//NONSGML v1.0//EN
CALSCALE:GREGORIAN
METHOD:PUBLISH
X-ORIGINAL-URL:https://es.lesturnerals.org
X-WR-CALDESC:Eventos para Les Turner ALS Foundation
REFRESH-INTERVAL;VALUE=DURATION:PT1H
X-Robots-Tag:noindex
X-PUBLISHED-TTL:PT1H
BEGIN:VTIMEZONE
TZID:UTC
BEGIN:STANDARD
TZOFFSETFROM:+0000
TZOFFSETTO:+0000
TZNAME:UTC
DTSTART:20160101T000000
END:STANDARD
END:VTIMEZONE
BEGIN:VEVENT
DTSTART;TZID=UTC:20171106T080000
DTEND;TZID=UTC:20171106T160000
DTSTAMP:20260424T035147
CREATED:20170908T193112Z
LAST-MODIFIED:20170908T193112Z
UID:4015-1509955200-1509984000@es.lesturnerals.org
SUMMARY:Les Turner Symposium on ALS and NeuroRepair
DESCRIPTION:The 7th Annual Les Turner Symposium on ALS and NeuroRepair celebrates research\, patient care and education. Featuring keynote speaker Christopher Henderson\, PhD\, Vice President of Neurology Research Biogen\, Inc.\, attendees will learn the latest on translating neuroscience into drugs for ALS patients. \nFor more information\, download this flyer. \nRegister Here \nFor questions\, contact jrichman@es.lesturnerals.org or contact the office at 847 679 3311
URL:https://es.lesturnerals.org/event/les-turner-symposium-als-neurorepair/
LOCATION:Prentice Women’s Hospital\, 250 W. Superior Street\, Chicago\, IL\, 60611\, United States
END:VEVENT
END:VCALENDAR