BEGIN:VCALENDAR
VERSION:2.0
PRODID:-//Les Turner ALS Foundation - ECPv6.15.20//NONSGML v1.0//EN
CALSCALE:GREGORIAN
METHOD:PUBLISH
X-ORIGINAL-URL:https://es.lesturnerals.org
X-WR-CALDESC:Eventos para Les Turner ALS Foundation
REFRESH-INTERVAL;VALUE=DURATION:PT1H
X-Robots-Tag:noindex
X-PUBLISHED-TTL:PT1H
BEGIN:VTIMEZONE
TZID:UTC
BEGIN:STANDARD
TZOFFSETFROM:+0000
TZOFFSETTO:+0000
TZNAME:UTC
DTSTART:20160101T000000
END:STANDARD
END:VTIMEZONE
BEGIN:VEVENT
DTSTART;TZID=UTC:20170810T090000
DTEND;TZID=UTC:20170810T200000
DTSTAMP:20260424T201548
CREATED:20170329T013116Z
LAST-MODIFIED:20170329T013116Z
UID:3420-1502355600-1502395200@es.lesturnerals.org
SUMMARY:2017 Matt Creen Golf Invitational
DESCRIPTION:Matt Creen\, General Counsel for the Currie Motors Group for 20 years\, was diagnosed with ALS in November 2013. This is now the Fourth Annual Matt Creen ALS Outing for the benefit of the Les Turner ALS Foundation. With the help of his strong faith in God and the support of his family and friends\, Matt has maintained a positive outlook over the years since his diagnosis and has been an inspiration to all loved ones in his life. \nEveryone\, whether golfing or not\, is invited to join Matt\, his family\, friends and colleagues for a fun-filled and inspirational day with plenty of great food\, cold drinks and camaraderie. \nRegister today at: events.lesturnerals.org/mattcreen2017 \n 
URL:https://es.lesturnerals.org/event/matt-creen-golf-invitational/
LOCATION:The Odyssey\, 19110 S Ridgeland Ave\, Tinley Park \, IL\, 60477\, United States
END:VEVENT
END:VCALENDAR