BEGIN:VCALENDAR
VERSION:2.0
PRODID:-//Les Turner ALS Foundation - ECPv6.15.20//NONSGML v1.0//EN
CALSCALE:GREGORIAN
METHOD:PUBLISH
X-ORIGINAL-URL:https://es.lesturnerals.org
X-WR-CALDESC:Eventos para Les Turner ALS Foundation
REFRESH-INTERVAL;VALUE=DURATION:PT1H
X-Robots-Tag:noindex
X-PUBLISHED-TTL:PT1H
BEGIN:VTIMEZONE
TZID:UTC
BEGIN:STANDARD
TZOFFSETFROM:+0000
TZOFFSETTO:+0000
TZNAME:UTC
DTSTART:20160101T000000
END:STANDARD
END:VTIMEZONE
BEGIN:VEVENT
DTSTART;TZID=UTC:20170711T080000
DTEND;TZID=UTC:20170711T170000
DTSTAMP:20260424T202448
CREATED:20170304T021409Z
LAST-MODIFIED:20170518T182717Z
UID:3281-1499760000-1499792400@es.lesturnerals.org
SUMMARY:Strike Out ALS 5k and 1 Mile Run\, Walk & Roll
DESCRIPTION:Since 2010\, the Strike Out ALS 5k and 1 Mile Run\, Walk & Roll has attracted thousands in the Chicagoland area to this one of a kind race at Guaranteed Rate Field. The event provides a truly unique Chicago experience by giving participants the opportunity to run\, walk or roll on the warning track. After crossing the finish line\, we celebrate our success at an after-party hosted at the Chi-Sox Bar & Grill. Join us on Tuesday\, July 11 to do your part in helping us strike out ALS! \nRegister at StrikeOutALS5k.org \nFor questions\, contact events@es.lesturnerals.org  \n 
URL:https://es.lesturnerals.org/event/strike-als-5k-1-mile-run-walk-roll/
LOCATION:Guaranteed Rate Field\,  333 W 35th St.\, Chicago\, IL\, 60616\, United States
END:VEVENT
END:VCALENDAR