BEGIN:VCALENDAR
VERSION:2.0
PRODID:-//Les Turner ALS Foundation - ECPv6.15.20//NONSGML v1.0//EN
CALSCALE:GREGORIAN
METHOD:PUBLISH
X-WR-CALNAME:Les Turner ALS Foundation
X-ORIGINAL-URL:https://es.lesturnerals.org
X-WR-CALDESC:Eventos para Les Turner ALS Foundation
REFRESH-INTERVAL;VALUE=DURATION:PT1H
X-Robots-Tag:noindex
X-PUBLISHED-TTL:PT1H
BEGIN:VTIMEZONE
TZID:UTC
BEGIN:STANDARD
TZOFFSETFROM:+0000
TZOFFSETTO:+0000
TZNAME:UTC
DTSTART:20160101T000000
END:STANDARD
END:VTIMEZONE
BEGIN:VEVENT
DTSTART;TZID=UTC:20170623T080000
DTEND;TZID=UTC:20170625T170000
DTSTAMP:20260424T213505
CREATED:20170520T011821Z
LAST-MODIFIED:20170520T012952Z
UID:3724-1498204800-1498410000@es.lesturnerals.org
SUMMARY:Abilities Expo
DESCRIPTION:Stop by the Les Turner ALS Foundation booth at the Chicago Abilities Expo on Friday\, June 23 – Sunday\, June 25 at the Renaissance Schaumburg Convention Center. For 40 years\, the Abilities Expo has been the go-to source for the Community of people with disabilities\, their families\, seniors\, veterans and healthcare professionals. \nStay tuned for details on how to register. For questions\, contact info@es.lesturnerals.org
URL:https://es.lesturnerals.org/event/abilities-expo-2/
LOCATION:Renaissance Schaumburg Convention Center\, 1551 Thoreau Drive North\, Schaumburg\, IL\, 60173\, United States
END:VEVENT
END:VCALENDAR