BEGIN:VCALENDAR
VERSION:2.0
PRODID:-//Les Turner ALS Foundation - ECPv6.15.20//NONSGML v1.0//EN
CALSCALE:GREGORIAN
METHOD:PUBLISH
X-WR-CALNAME:Les Turner ALS Foundation
X-ORIGINAL-URL:https://es.lesturnerals.org
X-WR-CALDESC:Eventos para Les Turner ALS Foundation
REFRESH-INTERVAL;VALUE=DURATION:PT1H
X-Robots-Tag:noindex
X-PUBLISHED-TTL:PT1H
BEGIN:VTIMEZONE
TZID:UTC
BEGIN:STANDARD
TZOFFSETFROM:+0000
TZOFFSETTO:+0000
TZNAME:UTC
DTSTART:20160101T000000
END:STANDARD
END:VTIMEZONE
BEGIN:VEVENT
DTSTART;TZID=UTC:20170614T183000
DTEND;TZID=UTC:20170614T203000
DTSTAMP:20260424T170814
CREATED:20170520T012912Z
LAST-MODIFIED:20170520T012912Z
UID:3732-1497465000-1497472200@es.lesturnerals.org
SUMMARY:South Suburban Community Event
DESCRIPTION:At the South Suburban Community event\, the Les Turner ALS Foundation will those who have supported efforts towards finding a cure for ALS. Join us in honoring our Corporate Partner of the Year\, Gold Eagle\, and our Volunteers of the Year\, the Matt Creen Golf Invitational organizers. Their continued generosity has made a profound impact on all those affected by ALS. At the Butler Reception Room at St. Xavier University\, the evening promises to be one of celebration and recognition. \nRSVP to info@es.lesturnerals.org 
URL:https://es.lesturnerals.org/event/south-suburban-community-event/
LOCATION:St. Xavier University\, 3700 W. 103rd St. \, Chicago \, IL\, United States
END:VEVENT
END:VCALENDAR