BEGIN:VCALENDAR
VERSION:2.0
PRODID:-//Les Turner ALS Foundation - ECPv6.15.20//NONSGML v1.0//EN
CALSCALE:GREGORIAN
METHOD:PUBLISH
X-WR-CALNAME:Les Turner ALS Foundation
X-ORIGINAL-URL:https://es.lesturnerals.org
X-WR-CALDESC:Eventos para Les Turner ALS Foundation
REFRESH-INTERVAL;VALUE=DURATION:PT1H
X-Robots-Tag:noindex
X-PUBLISHED-TTL:PT1H
BEGIN:VTIMEZONE
TZID:UTC
BEGIN:STANDARD
TZOFFSETFROM:+0000
TZOFFSETTO:+0000
TZNAME:UTC
DTSTART:20160101T000000
END:STANDARD
END:VTIMEZONE
BEGIN:VEVENT
DTSTART;TZID=UTC:20170331T100000
DTEND;TZID=UTC:20170331T200000
DTSTAMP:20260424T152644
CREATED:20170210T223040Z
LAST-MODIFIED:20170210T223040Z
UID:3201-1490954400-1490990400@es.lesturnerals.org
SUMMARY:Bank of America Shamrock Shuffle Health & Fitness Expo
DESCRIPTION:Celebrate St. Patrick’s Day and the spring running season at the Bank of America Shamrock Shuffle 8K Health & Fitness Expo. The Health & Fitness Expo features more than 80 exhibiting companies\, offering runners and walkers the latest in footwear\, apparel\, nutrition and technology. The Expo is free and open to public. \nThis is also an opportunity for Team Race for ALS participants to pickup their packet and materials: timing devices (for 8K)\, event bib number\, Nike participant running shirt and other Les Turner merchandise. \nFor questions regarding the Bank of America Shamrock Shuffle Health & Fitness Expo\, contact events@es.lesturnerals.org
URL:https://es.lesturnerals.org/event/shamrock-shuffle-health-fitness-expo/
LOCATION:McCormick Place\, Hall C\, 2301 South Indiana Ave.\, Chicago\, IL\, 60616\, United States
END:VEVENT
END:VCALENDAR