BEGIN:VCALENDAR
VERSION:2.0
PRODID:-//Les Turner ALS Foundation - ECPv6.15.20//NONSGML v1.0//EN
CALSCALE:GREGORIAN
METHOD:PUBLISH
X-ORIGINAL-URL:https://es.lesturnerals.org
X-WR-CALDESC:Eventos para Les Turner ALS Foundation
REFRESH-INTERVAL;VALUE=DURATION:PT1H
X-Robots-Tag:noindex
X-PUBLISHED-TTL:PT1H
BEGIN:VTIMEZONE
TZID:UTC
BEGIN:STANDARD
TZOFFSETFROM:+0000
TZOFFSETTO:+0000
TZNAME:UTC
DTSTART:20160101T000000
END:STANDARD
END:VTIMEZONE
BEGIN:VEVENT
DTSTART;TZID=UTC:20170308T180000
DTEND;TZID=UTC:20170308T210000
DTSTAMP:20260424T202450
CREATED:20170210T221257Z
LAST-MODIFIED:20170214T201622Z
UID:3194-1488996000-1489006800@es.lesturnerals.org
SUMMARY:YPG NCAA Bracket Challenge Kickoff Party
DESCRIPTION:Are you ready for the craze of the NCAA’s March Madness? Jump-start the tournament at the Young ProfessionALS Group’s Bracket Challenge Kickoff Party on Wednesday\, March 8 at The Scout in Chicago. For your $25 donation\, you receive one bracket\, a drink ticket and appetizers all while providing funds for ALS research and patient care. Even if you are not a fan of college basketball\, the YPG Bracket Kickoff Party is a great way to interact with other young professionals while contributing crucial dollars to ALS research and patient care.
URL:https://es.lesturnerals.org/event/ypg-ncaa-bracket-challenge-kickoff-party/
LOCATION:The Scout\, 1301 S. Wabash Ave.\, Chicago \, IL\, United States
END:VEVENT
END:VCALENDAR