BEGIN:VCALENDAR
VERSION:2.0
PRODID:-//Les Turner ALS Foundation - ECPv6.15.20//NONSGML v1.0//EN
CALSCALE:GREGORIAN
METHOD:PUBLISH
X-ORIGINAL-URL:https://es.lesturnerals.org
X-WR-CALDESC:Eventos para Les Turner ALS Foundation
REFRESH-INTERVAL;VALUE=DURATION:PT1H
X-Robots-Tag:noindex
X-PUBLISHED-TTL:PT1H
BEGIN:VTIMEZONE
TZID:UTC
BEGIN:STANDARD
TZOFFSETFROM:+0000
TZOFFSETTO:+0000
TZNAME:UTC
DTSTART:20150101T000000
END:STANDARD
END:VTIMEZONE
BEGIN:VEVENT
DTSTART;TZID=UTC:20161029T080000
DTEND;TZID=UTC:20161029T170000
DTSTAMP:20260424T202443
CREATED:20160409T003005Z
LAST-MODIFIED:20160701T014723Z
UID:1848-1477728000-1477760400@es.lesturnerals.org
SUMMARY:Hot Chocolate 15k/5k
DESCRIPTION:  \nLace up those running shoes and hit the pavement to support the Les Turner ALS Foundation’s Team Race for ALS at the 2016 Hot Chocolate 15k/5k Chicago! Don’t let the word “race” scare you though! We have runners of all levels on the team\, from Triathletes to Sunday joggers – what you have in common are a desire to find a cure for ALS and the commitment to cross the finish line. \nIMPORTANT DATES: \nThursday\, Oct. 27th\, 2016:\nHot Chocolate 15k/5k Expo & Packet Pick Up\n3 p.m. to 7 p.m. \nFriday\, Oct. 28th\, 2016:\nHot Chocolate 15k/5k Expo & Packet Pick Up\n10 a.m. to 7 p.m. \nSaturday\, Oct. 29th\, 2016:\nHot Chocolate 15k/5k Expo & Packet Pick Up\n10 a.m. to 6 p.m. \nHyatt Regency Chicago\nRiverside Exhibit Hall\n151 East Wacker Drive\nChicago\, IL 60601
URL:https://es.lesturnerals.org/event/hot-chocolate-15k5k/
LOCATION:Grant Park\, Chicago\, IL\, United States
END:VEVENT
END:VCALENDAR