BEGIN:VCALENDAR
VERSION:2.0
PRODID:-//Les Turner ALS Foundation - ECPv6.15.20//NONSGML v1.0//EN
CALSCALE:GREGORIAN
METHOD:PUBLISH
X-ORIGINAL-URL:https://es.lesturnerals.org
X-WR-CALDESC:Eventos para Les Turner ALS Foundation
REFRESH-INTERVAL;VALUE=DURATION:PT1H
X-Robots-Tag:noindex
X-PUBLISHED-TTL:PT1H
BEGIN:VTIMEZONE
TZID:UTC
BEGIN:STANDARD
TZOFFSETFROM:+0000
TZOFFSETTO:+0000
TZNAME:UTC
DTSTART:20150101T000000
END:STANDARD
END:VTIMEZONE
BEGIN:VEVENT
DTSTART;TZID=UTC:20161009T060000
DTEND;TZID=UTC:20161009T170000
DTSTAMP:20260424T202433
CREATED:20160409T001928Z
LAST-MODIFIED:20160409T001928Z
UID:1842-1475992800-1476032400@es.lesturnerals.org
SUMMARY:Bank of America Chicago Marathon
DESCRIPTION:Lace up those running shoes and hit the pavement in support of the Les Turner ALS Foundation’s Team Race for ALS at the 2016 Bank of America Chicago Marathon! \nEvent information: \nMarch 8 to April 12\nApplications for guaranteed entries will be available to charity runners! \nHow to Register: \nSign up on the Bank of America Chicago Marathon website\nSign up through the Team Race for ALS  site
URL:https://es.lesturnerals.org/event/bank-america-chicago-marathon/
LOCATION:Grant Park\, Chicago\, IL\, United States
END:VEVENT
END:VCALENDAR