BEGIN:VCALENDAR
VERSION:2.0
PRODID:-//Les Turner ALS Foundation - ECPv6.15.20//NONSGML v1.0//EN
CALSCALE:GREGORIAN
METHOD:PUBLISH
X-ORIGINAL-URL:https://es.lesturnerals.org
X-WR-CALDESC:Eventos para Les Turner ALS Foundation
REFRESH-INTERVAL;VALUE=DURATION:PT1H
X-Robots-Tag:noindex
X-PUBLISHED-TTL:PT1H
BEGIN:VTIMEZONE
TZID:UTC
BEGIN:STANDARD
TZOFFSETFROM:+0000
TZOFFSETTO:+0000
TZNAME:UTC
DTSTART:20150101T000000
END:STANDARD
END:VTIMEZONE
BEGIN:VEVENT
DTSTART;TZID=UTC:20160929T140000
DTEND;TZID=UTC:20160929T150000
DTSTAMP:20260424T202433
CREATED:20160916T205141Z
LAST-MODIFIED:20160916T205141Z
UID:2741-1475157600-1475161200@es.lesturnerals.org
SUMMARY:PALS Webinar: Maximizing Bulbar and Respiratory Function in Amyotrophic Lateral Sclerosis
DESCRIPTION:Dr. Emily Plowman will discuss best management practices for the management of bulbar and respiratory function in ALS\, as well as her National Institute of Health and ALS Association funded clinical trials aimed at extending airway protection\, swallowing and breathing function in ALS. The webinar is scheduled for Thursday\, September at 2pm. To register\, click here.
URL:https://es.lesturnerals.org/event/pals-webinar-maximizing-bulbar-respiratory-function-amyotrophic-lateral-sclerosis/
END:VEVENT
END:VCALENDAR